BEGIN:VCALENDAR
VERSION:2.0
PRODID:-//クリエイティブセンター大阪（CCO） - ECPv6.2.1//NONSGML v1.0//EN
CALSCALE:GREGORIAN
METHOD:PUBLISH
X-WR-CALNAME:クリエイティブセンター大阪（CCO）
X-ORIGINAL-URL:https://namura.cc
X-WR-CALDESC:クリエイティブセンター大阪（CCO） のイベント
REFRESH-INTERVAL;VALUE=DURATION:PT1H
X-Robots-Tag:noindex
X-PUBLISHED-TTL:PT1H
BEGIN:VTIMEZONE
TZID:Asia/Tokyo
BEGIN:STANDARD
TZOFFSETFROM:+0900
TZOFFSETTO:+0900
TZNAME:JST
DTSTART:20130101T000000
END:STANDARD
END:VTIMEZONE
BEGIN:VEVENT
DTSTART;VALUE=DATE:20251101
DTEND;VALUE=DATE:20251104
DTSTAMP:20260422T171947
CREATED:20251015T014136Z
LAST-MODIFIED:20251015T014136Z
UID:6333-1761955200-1762214399@namura.cc
SUMMARY:KITAKAGAYA FLEA 2025 AUTUMN & ASIA BOOK MARKET
DESCRIPTION:□日時\n2025年\n11月1日（土）11:00-17:00\n＊17:30-交流会（交流会参加には別途チケットが必要です）\n11月2日（日）11:00-19:00\n11月3日（月・祝）11:00-18:00 \n□チケット\n前売り 1\,200円（無くなり次第終了） \n当日1\,500円（税込）\n※飲食物の持ち込み禁止 \n□詳しくは\nhttps://kitakagayaflea.jp
URL:https://namura.cc/event/20251101-3/
ATTACH;FMTTYPE=image/jpeg:https://namura.cc/wp-content/uploads/2025/10/KF2025.jpg
END:VEVENT
BEGIN:VEVENT
DTSTART;VALUE=DATE:20131110
DTEND;VALUE=DATE:20131111
DTSTAMP:20260422T171947
CREATED:20230213T085833Z
LAST-MODIFIED:20230213T085833Z
UID:616-1384041600-1384127999@namura.cc
SUMMARY:Red Bull 5G 2013 西オフライン予選
DESCRIPTION:Red Bull 5G 2013 西オフライン予選 \n□日時\n2013年11月10日（日） \nRed Bull 5G 2013 西オフライン予選 結果速報
URL:https://namura.cc/event/20131110/
ATTACH;FMTTYPE=image/jpeg:https://namura.cc/wp-content/uploads/2023/02/20131123-RED-BULL-5G.jpg
END:VEVENT
END:VCALENDAR