BEGIN:VCALENDAR
VERSION:2.0
PRODID:-//クリエイティブセンター大阪（CCO） - ECPv6.2.1//NONSGML v1.0//EN
CALSCALE:GREGORIAN
METHOD:PUBLISH
X-WR-CALNAME:クリエイティブセンター大阪（CCO）
X-ORIGINAL-URL:https://namura.cc
X-WR-CALDESC:クリエイティブセンター大阪（CCO） のイベント
REFRESH-INTERVAL;VALUE=DURATION:PT1H
X-Robots-Tag:noindex
X-PUBLISHED-TTL:PT1H
BEGIN:VTIMEZONE
TZID:Asia/Tokyo
BEGIN:STANDARD
TZOFFSETFROM:+0900
TZOFFSETTO:+0900
TZNAME:JST
DTSTART:20080101T000000
END:STANDARD
END:VTIMEZONE
BEGIN:VEVENT
DTSTART;VALUE=DATE:20080502
DTEND;VALUE=DATE:20080503
DTSTAMP:20260426T111630
CREATED:20230217T100654Z
LAST-MODIFIED:20230217T100707Z
UID:1379-1209686400-1209772799@namura.cc
SUMMARY:oomph!
DESCRIPTION:※Gay Men Only EVENT\noomph![umf= ウンフ]\n2008/5/2[FRI]\nOPEN 22:00\nCLOSE 5:00\nDOOR 3500Yen\n1ドリンク込\n※Mixi Community Entry Discount(コミュ割）→500yen Off!\nhttp://mixi.jp/view_community.pl?id=3088564 関西では久々となる大箱ゲイ．パーティー『oomph!( ウンフ)』の登場 です！\n‘９５?’０６の１２年間、１０００人規模のゲイナイトとして西日本最大規模を誇った「マングローブ」の２nd Edition 的ビッグパーティー ！\nマングロ終焉より２年の歳月を経て、「関西最大＋最強の夜」が大阪湾岸の造船所跡地に帰って来ます! \n※ゲイイベントです。女性は入場できません。 \n★シャトルバス運行\n梅田から会場まで随時ピストン運行致します。\n（往路／復路各区間 300円） \n梅田発着：サウナ大東洋前\n22:00-2:30 約30分毎運行 \n会場：\n0:30-4:30 約30分毎運行 \nCAST： \nGuest DJ: Takhiro(from Fuk) \nElectro\, Tech Funk を基軸としたエクレクティックなセレクトで数々のパーティーを彩る。\nUK ブレイクス・シーンのゴッド・ファーザー Aquasky を始めとする海外・国内アーティストとの共演を果たすとともに、初の日本人アーティストとして iBreaks へ参加。様々な音楽性を昇華したタイトなプレイ・最新のセレクトが注目を集める。 \nDJ:\nChu* / Tal / Shintaro and Jimmy-○ \nDQ:\nMargalita(from Tyo) / Diana Extravaganza (from Tyo) / Nadja Grandiva / Madame Coco / Miss Olive / Bluelett / Miss MariaGOGO: ICHI / KOBA / AKI (From TYO) / MASA / LIO / KYOSUKE and moreDANCER: KAZUMU (From TYO) / HACCOMI / TOSSI / TSUYOSHI \nINFO：\noomph!\nhttp://www.oomph.jp\ninfo@oomph.jp
URL:https://namura.cc/event/20080502/
ATTACH;FMTTYPE=image/jpeg:https://namura.cc/wp-content/uploads/2023/02/20080329-20080502_oomph.jpg
END:VEVENT
END:VCALENDAR