BEGIN:VCALENDAR
VERSION:2.0
PRODID:-//クリエイティブセンター大阪（CCO） - ECPv6.2.1//NONSGML v1.0//EN
CALSCALE:GREGORIAN
METHOD:PUBLISH
X-ORIGINAL-URL:https://namura.cc
X-WR-CALDESC:クリエイティブセンター大阪（CCO） のイベント
REFRESH-INTERVAL;VALUE=DURATION:PT1H
X-Robots-Tag:noindex
X-PUBLISHED-TTL:PT1H
BEGIN:VTIMEZONE
TZID:Asia/Tokyo
BEGIN:STANDARD
TZOFFSETFROM:+0900
TZOFFSETTO:+0900
TZNAME:JST
DTSTART:20080101T000000
END:STANDARD
END:VTIMEZONE
BEGIN:VEVENT
DTSTART;VALUE=DATE:20080503
DTEND;VALUE=DATE:20080504
DTSTAMP:20260426T111709
CREATED:20230217T100543Z
LAST-MODIFIED:20230217T100559Z
UID:1376-1209772800-1209859199@namura.cc
SUMMARY:THE CARNIVAL
DESCRIPTION:FOCUS興業 Presents\nHIPHOP BATTLE 決勝大会\n『 THE CARNIVAL 』\nOPEN 18:00\nSTART 20:00\nCLOSE 5:00\nADV 3000Yen\nDOOR 4000Yen\n1ドリンク別途 500Yen \nチケット発売＝4/5 START ▼MC:\nDOBERMAN INC\nJAZZY BLAZE\nJAY’ED\nMC MOGGY\nMISTA O.K.I\nM.M.T\nRYUZO & ANARCHY\nSHINGO☆西成\nWOLF PACK\n韻踏合組合\n茂千代\n弘Jr. \n▼OPENING SHOWCASE:\n22&GAZZILA\nEMI MARIA\nLEED ROCK\nFALCO&SHINO \n▼Live Back Up Dancer:\nSAKURA \n▼Dancer:\nVENOM\nSP UNIT \n▼Live Paint:\nCook (From CMK) \n▼DJ:\nGEORGE\nBIGAI\nDOLLPHIN \n▼DJ For Battle:\nDJ BENKAY \nTICKET:\nチケットぴあ Pコード＝612-458\nTEL 0570-02-9999\nローソンチケット Lコード＝52231\nTEL 0570-084-005 \nINFO:\nFOCUS興業\nhttp://www.focus-k.com\ninfo@focus-k.com\n06-4392-0040 (KAMI\,14:00-20:00)
URL:https://namura.cc/event/20080503/
ATTACH;FMTTYPE=image/jpeg:https://namura.cc/wp-content/uploads/2023/02/20080315-20080503.jpg
END:VEVENT
END:VCALENDAR