BEGIN:VCALENDAR
VERSION:2.0
PRODID:-//クリエイティブセンター大阪（CCO） - ECPv6.2.1//NONSGML v1.0//EN
CALSCALE:GREGORIAN
METHOD:PUBLISH
X-ORIGINAL-URL:https://namura.cc
X-WR-CALDESC:クリエイティブセンター大阪（CCO） のイベント
REFRESH-INTERVAL;VALUE=DURATION:PT1H
X-Robots-Tag:noindex
X-PUBLISHED-TTL:PT1H
BEGIN:VTIMEZONE
TZID:Asia/Tokyo
BEGIN:STANDARD
TZOFFSETFROM:+0900
TZOFFSETTO:+0900
TZNAME:JST
DTSTART:20080101T000000
END:STANDARD
END:VTIMEZONE
BEGIN:VEVENT
DTSTART;VALUE=DATE:20080516
DTEND;VALUE=DATE:20080517
DTSTAMP:20260426T111709
CREATED:20230217T100317Z
LAST-MODIFIED:20230217T100325Z
UID:1372-1210896000-1210982399@namura.cc
SUMMARY:WORLD OUT 4th
DESCRIPTION:世界WORLD Presents\nEMMAHOUSE featurung JANICE ROBINSON\n“SWEETEST DAY OF MAY”TOUR\n『 WORLD OUT 4th 』\nSTART 22:00\nADV 3\,500Yen\nDOOR 4\,000Yen\n1ドリンク別途 500Yen [STUDIO PARTITA]\nMAIN DL:EMMA\nGUEST DJ:SUGIURUMN\nSPECIAL LIVE:JANIS ROBINSON \n[BLACK CHAMBER]\nMAIN DJ:石野卓球（電気グルーヴ）\nand more… \nTICKET:\nローソンチケット 0570-084-005\nイープラス http://www.eplus.co.jp \nINFO:\n世界WORLD\nhttp://www.world-kyoto.com
URL:https://namura.cc/event/20080516/
ATTACH;FMTTYPE=:
END:VEVENT
END:VCALENDAR