BEGIN:VCALENDAR
VERSION:2.0
PRODID:-//クリエイティブセンター大阪（CCO） - ECPv6.2.1//NONSGML v1.0//EN
CALSCALE:GREGORIAN
METHOD:PUBLISH
X-ORIGINAL-URL:https://namura.cc
X-WR-CALDESC:クリエイティブセンター大阪（CCO） のイベント
REFRESH-INTERVAL;VALUE=DURATION:PT1H
X-Robots-Tag:noindex
X-PUBLISHED-TTL:PT1H
BEGIN:VTIMEZONE
TZID:Asia/Tokyo
BEGIN:STANDARD
TZOFFSETFROM:+0900
TZOFFSETTO:+0900
TZNAME:JST
DTSTART:20080101T000000
END:STANDARD
END:VTIMEZONE
BEGIN:VEVENT
DTSTART;VALUE=DATE:20080606
DTEND;VALUE=DATE:20080607
DTSTAMP:20260426T094927
CREATED:20230217T100105Z
LAST-MODIFIED:20230217T100105Z
UID:1368-1212710400-1212796799@namura.cc
SUMMARY:清春 unplugged live
DESCRIPTION:清春 unplugged live\n『base of melancholy』\n2008/6/6[FRI]\nOPEN 17:00\nSTART 18:00\nADV 8\,500Yen 1ドリンク込\n→SOLD OUT \nINFO:\n清春 OFFICIAL WEB SITE\nhttp://www.kiyoharu.jp/
URL:https://namura.cc/event/%e6%b8%85%e6%98%a5-unplugged-live/
ATTACH;FMTTYPE=:
END:VEVENT
END:VCALENDAR