BEGIN:VCALENDAR
VERSION:2.0
PRODID:-//クリエイティブセンター大阪（CCO） - ECPv6.2.1//NONSGML v1.0//EN
CALSCALE:GREGORIAN
METHOD:PUBLISH
X-ORIGINAL-URL:https://namura.cc
X-WR-CALDESC:クリエイティブセンター大阪（CCO） のイベント
REFRESH-INTERVAL;VALUE=DURATION:PT1H
X-Robots-Tag:noindex
X-PUBLISHED-TTL:PT1H
BEGIN:VTIMEZONE
TZID:Asia/Tokyo
BEGIN:STANDARD
TZOFFSETFROM:+0900
TZOFFSETTO:+0900
TZNAME:JST
DTSTART:20080101T000000
END:STANDARD
END:VTIMEZONE
BEGIN:VEVENT
DTSTART;VALUE=DATE:20080607
DTEND;VALUE=DATE:20080608
DTSTAMP:20260426T094926
CREATED:20230217T100010Z
LAST-MODIFIED:20230217T100018Z
UID:1365-1212796800-1212883199@namura.cc
SUMMARY:Boom梵-hige-髭
DESCRIPTION:2008年6月7日（土）\nOPEN 22:00\nCLOSE 6:00 \n前売り：4\,500\n取り扱い店　大阪 EXODUS 06-6532-9385 http://exodus728.com/\n当日：6\,000 \n※要写真付き身分証明書・未成年入場不可\n※入場後の外出、再入場は出来ません。\n※危険物、違法薬物の持込、飲酒運転、路上駐車厳禁。\n※スタッフの指示に従わない方、他の来場者に迷惑となる方は強制退場して頂きます。\n※会場内での録音、ビデオカメラでの撮影禁止。\n＜ Live ＞\nParasense (Crystal Matrix/Russia)\nKindzadza (Parvati Records\,Insomnia/Russia)\n＜ D J ＞\nPsykovsky (Vertigo Records/Russia)\nAlex (aka.Parasense・Crystal Matrix/Russia)\nLeo (aka.Kindzadza・Parvati Records\,Insomnia/Russia)\nKen(Phreex Networx/Parvati Records/Tokyo)\ne-Mo(Psy-Net-Work\,Gear\,S-H-L-W/mystlake/Osaka)\n＜ V J ＞\nSalvador Channel (Mad Channel＋Salvador Works)\n＜ART work＞\nsayan http://www.shigasayaka.com/\n＜Lounge DJ＞\nyone\nshigeru\nsatoshi\nand more\n＜Fire dance show＞\nNACKY & YOKO \n＜shop＞\n☆LA.LURE☆ http://www.lalure.net/\nC-travel http://blog.c-tra.net/\n梵髭cafe
URL:https://namura.cc/event/20080607/
ATTACH;FMTTYPE=:
END:VEVENT
END:VCALENDAR