BEGIN:VCALENDAR
VERSION:2.0
PRODID:-//クリエイティブセンター大阪（CCO） - ECPv6.2.1//NONSGML v1.0//EN
CALSCALE:GREGORIAN
METHOD:PUBLISH
X-WR-CALNAME:クリエイティブセンター大阪（CCO）
X-ORIGINAL-URL:https://namura.cc
X-WR-CALDESC:クリエイティブセンター大阪（CCO） のイベント
REFRESH-INTERVAL;VALUE=DURATION:PT1H
X-Robots-Tag:noindex
X-PUBLISHED-TTL:PT1H
BEGIN:VTIMEZONE
TZID:Asia/Tokyo
BEGIN:STANDARD
TZOFFSETFROM:+0900
TZOFFSETTO:+0900
TZNAME:JST
DTSTART:20080101T000000
END:STANDARD
END:VTIMEZONE
BEGIN:VEVENT
DTSTART;VALUE=DATE:20080706
DTEND;VALUE=DATE:20080707
DTSTAMP:20260426T081539
CREATED:20230217T095534Z
LAST-MODIFIED:20230217T095543Z
UID:1357-1215302400-1215388799@namura.cc
SUMMARY:PAPER GARDEN special feature DE-LUXE
DESCRIPTION:Life Sound Production Presents\nSUPPORTED by Music Japan TV\n「PAPER GARDEN special feature DE-LUXE」 \n2008/7/6[SUN]\nOPEN\nSTART 15:00-22:00\nADV 3\,500Yen\nDOOR 4\,000Yen \nチケット発売 ローソンチケット0570-084-005 L-コード(56312)\nURL:http://www.lifesoundpro.com/ \nCAST:\nDS455 / OZROSAURUS / BIG RON / HOKT\nAK-69 a.k.a. Kalassy Nikoff / ARIA / GHETTO INC. / DAZZLE 4 LIFE\nYORK / S.T.M / 詩音 / KEN-RYW\nRYW / MISTA O.K.I / DOBERMAN INC / 茂千代 / 韻踏合組合\nTOKI / TWENTY4-7 / YOUNGSHIM \nDJ:\nOLDE-E / BENKAY / “R” / KATZ-ZOW / IDEAL / SPIRYTUS \nHOST MC :\nAMI\nSUPPORT MC :\nORO \nLIVE PAINTING:\nMOSGTDESTROY & KAREZMA \nVJ:\nact81 \n企画制作 : Life Sound Production\n制作協力 : HI-RISE / WESUP TV\n協賛 : “ZI-Cock West” / minimini TAKUTO / exicte / NESTA BRAND/ たまねぎ\n倶楽部\nRising Store / Indoor Garden / Aeromake / Up To The Sky\nProduction / Laugh\n協力 : Music Japan TV / DynaWare / ROCK WELL / カジカジ /
URL:https://namura.cc/event/20080706/
ATTACH;FMTTYPE=image/jpeg:https://namura.cc/wp-content/uploads/2023/02/20080621-PaperGarden.jpg
END:VEVENT
END:VCALENDAR