BEGIN:VCALENDAR
VERSION:2.0
PRODID:-//クリエイティブセンター大阪（CCO） - ECPv6.2.1//NONSGML v1.0//EN
CALSCALE:GREGORIAN
METHOD:PUBLISH
X-ORIGINAL-URL:https://namura.cc
X-WR-CALDESC:クリエイティブセンター大阪（CCO） のイベント
REFRESH-INTERVAL;VALUE=DURATION:PT1H
X-Robots-Tag:noindex
X-PUBLISHED-TTL:PT1H
BEGIN:VTIMEZONE
TZID:Asia/Tokyo
BEGIN:STANDARD
TZOFFSETFROM:+0900
TZOFFSETTO:+0900
TZNAME:JST
DTSTART:20080101T000000
END:STANDARD
END:VTIMEZONE
BEGIN:VEVENT
DTSTART;VALUE=DATE:20080711
DTEND;VALUE=DATE:20080712
DTSTAMP:20260426T081635
CREATED:20230217T095412Z
LAST-MODIFIED:20230217T095422Z
UID:1355-1215734400-1215820799@namura.cc
SUMMARY:中田ヤスタカ DJ TOUR in 大阪　2008 SUMMER SPECIAL!!
DESCRIPTION:中田ヤスタカ DJ TOUR in 大阪　2008 SUMMER SPECIAL!! \n出演者:\n中田ヤスタカ(CAPSULE)\nhttp://www.contemode.com/ \nDJ KENZI(BLACK BEATZ BOX)\nkaede(Re:birth)\n鄭本農基（tei by inoti/vantan)\nTEE DEES\nNAO ROCK\nDJ Q\nOPEN AIR DJ’S:DJ KAINA(TRASH)/VORTECH S(Hirouz&KILA)/TEN-GU(LISTEN ELECTRO) \nOPEN/START 22:00　前売:3000円　当日:3500円 \n会場住所\n559-0011 大阪市住之江区北加賀屋4-1-55 名村造船跡地\nhttp://www.namura.cc/access.html\nTEL　06-4702-7085 \nチケットぴあ 0570-02-9966　Ｐコード:２９６?９５５\n(ぴあ各店頭/サークルK/サンクス/ファミリーマート各店)\n6/21発売開始！\nローソンチケット 0570-084-005　 Ｌコード:５８０７６\n6/22発売開始！ \nチケット取扱い店\nSC WORLD 06-6245-1728\nDogs　　 　06-6538-8766\ndix heures 06-6532-2413\nonze heures 075-211-6379\nJET SET 　 075-253-3530\nTRIANGLE 06-6212-2264\ninoti　 06-6281-9558 \n中田ヤスタカ DJ TOUR in 大阪　2008 SUMMER SPECIAL!!\n@名村造船所跡地　STUDIO PARTITA \n出演者:\n中田ヤスタカ(CAPSULE)\nhttp://www.contemode.com/ \nDJ KENZI(BLACK BEATZ BOX)\nkaede(Re:birth)\n鄭本農基（tei by inoti/vantan)\nTEE DEES\nNAO ROCK\nDJ Q\nOPEN AIR DJ’S:DJ KAINA(TRASH)/VORTECH S(Hirouz&KILA)/TEN-GU(LISTEN ELECTRO) \n会場住所\n559-0011 大阪市住之江区北加賀屋4-1-55 名村造船跡地\nhttp://www.namura.cc/access.html\nTEL　06-4702-7085 \nOPEN/START 22:00　前売:3000円　当日:3500円 \nチケットぴあ 0570-02-9966　Ｐコード:２９６?９５５\n(ぴあ各店頭/サークルK/サンクス/ファミリーマート各店)\n6/21発売開始！\nローソンチケット 0570-084-005　 Ｌコード:５８０７６\n6/22発売開始！ \nチケット取扱い店\nSC WORLD 06-6245-1728\nDogs　　 　06-6538-8766\ndix heures 06-6532-2413\nonze heures 075-211-6379\nJET SET 　 075-253-3530\nTRIANGLE 06-6212-2264\ninoti　 06-6281-9558 \n中田ヤスタカ　【yasutaka nakata】 \nサウンドプロデューサー/ＤＪ。自身のユニット”capsule（カプセル）をメインに活動中。エレクトロ/ハウスなどを中心に様々な音を独自のバランスで操るその天才的なサウンドセンスによって、クラブシーンはもちろん服飾・美容関係者から絶大な支持を受けている。 capsuleの最新アルバム『FLASHBACK』はApple iTunes Storeエレクトロ ニックチャートにて国内外勢を抑え１位を獲得(後にアルバム総合チャートでも１位を記録)するなど、このジャンルにおいて異例ともいえるセールスを上げている。ファッションシーンとの繋がりも深く、アパレルブランドやモデルとのコラボレーションなども行っているほか、MEGやPerfumeのサウンドプロデュース、m-floやKALEIDO、リア・ディゾンなど多数のアーティストのリミックス、さらにドラマ「ライアーゲーム」のサウンドトラックを手がけるなど、多方面にて活躍中。 また2004年にはスタジオジブリの百瀬ヨシユキ監督とのコラボレーションによる短編映画「ポータブル空港」を発表しており、中田ヤスタカが原案と音楽を手がけた同作は映像界からも大きな評価を得た。 2005年には続編となる「space station NO\,9」「空飛ぶ都市計画」を発表、この三部作は後にスタジオジブリDVD「ショートショート」に収録され数十万枚の売り上げを記録している。DJとしては現在「contemode saloon」（毎月第1金曜@新宿OTO）、都内最大規模 の美容師ナイトである「trick or treat」（毎月第3月曜@代官山AIR）などのレギュラーイベントにてメインDJを務めるほか、ゲストDJとして数々のファッション誌やアート誌などの発売記念イベント、サロン主催イベント、ファッションショーイベントなどに出演している。 \n:: DJ KENZI profile ::\n世界のシーンからも注目を集めている日本を代表するBIG PARTY『BLACK BEATZ BOX』のオリジナルメンバーでもある彼は、2006年新たに大阪UNDER LOUNGEにおいて『FUTURE FUNK』をスタートさせ、初回から800人もの集客を得る等、その動向には多くの人々が注目している。WE LOVE MUSICやKMF、「STAR FESTIVAL」で1800人以上のクラウドを熱狂の渦に巻き込むなど、関西のBig Partyには欠かすことのできない存在になっている。http://www.myspace.com/djkenz1 \n:: Kaede profile ::\nhttp://www.kaede.be/index.html\nhttp://www.myspace.com/kaedeosaka\n日本の秋の紅く染まるモミジをあらわす。楓の名前に由来する抒情詩的な哀愁ある楽曲を奏で、日本の秋の季節感であるセンチメンタリズムを表現する。切なさの中にある秋の葉の色のような楽曲を作り続ける。 2005年12月1stEP\n「RENT」を発表。 2006年8月\,2008年3月2ndEP「symposion of showgirl」発表。\nCISCO onlineでのチャートで総合チャート1位となり好セールスを記録。またCISCOのコンピレーションアルバム「Cisco House Presents.Compact Vinyl Upper House Vol.2」に収録される。そして、海外のJUNOなどのサイトでも好評を得る。 2008年は更なる精力的な活動が期待される。
URL:https://namura.cc/event/20080711/
ATTACH;FMTTYPE=:
END:VEVENT
END:VCALENDAR