BEGIN:VCALENDAR
VERSION:2.0
PRODID:-//クリエイティブセンター大阪（CCO） - ECPv6.2.1//NONSGML v1.0//EN
CALSCALE:GREGORIAN
METHOD:PUBLISH
X-ORIGINAL-URL:https://namura.cc
X-WR-CALDESC:クリエイティブセンター大阪（CCO） のイベント
REFRESH-INTERVAL;VALUE=DURATION:PT1H
X-Robots-Tag:noindex
X-PUBLISHED-TTL:PT1H
BEGIN:VTIMEZONE
TZID:Asia/Tokyo
BEGIN:STANDARD
TZOFFSETFROM:+0900
TZOFFSETTO:+0900
TZNAME:JST
DTSTART:20080101T000000
END:STANDARD
END:VTIMEZONE
BEGIN:VEVENT
DTSTART;VALUE=DATE:20080802
DTEND;VALUE=DATE:20080803
DTSTAMP:20260426T064113
CREATED:20230217T095306Z
LAST-MODIFIED:20230217T095318Z
UID:1352-1217635200-1217721599@namura.cc
SUMMARY:Freestyle Lab Japan tour
DESCRIPTION:Freestyle Lab Japan tour powerd by セブンスター \n2008.8.2[SAT]\nSTUDIO PARTITA\nSTART:22:00 \nOFFICIAL MYSPACE\nhttp://www.myspace.com/freestylelabjapantour\nCONSEPT\nジャンルの壁を飛び超え、ターンテーブルをロックする！日々、変貌を遂げるクラブシーンにまた新たなムーブメントの予感が•••。\n世界基準で活躍する日本が誇るアーティストが、全国のオーディエンスに向け、ジャンルの壁を超えて自由に表現すること、\nその可能性を確立するための実験室として『Freestyle Lab Japan tour』 は始動する！\n第1弾となる今回のテーマは、『NO WALL！』（TECHNO・HOUSE・ROCK・HIPHOPの壁を破壊せよ！）。\n全ての音楽が彼らの餌食となる瞬間を見逃すな！真夏の夜、ターンテーブルを武器に全国を疾走するサムライ達にもう目が離せない！ \nMain Floor\ndj KENTARO\, DJ BAKU\,\nTetsushi Hiroyama\, Yosuke Hiroyama (RYUKYUDISKO) \nDJ KENZI（BLACK BEATZ BOX） with MC AOI\,\nTAKU-HERO\, Kaede\nVJ: GEC \n2nd Floor\nWESSUN(土俵ORIZIN)\,TWOSEVEN CLASH(DO UR THING)\,\nFUTURE LION\,DJ SHINE(CYDER RECORDS)\,\nKOUICHI SATO(CROSS COUNTER)\,NAOYA SUGIMOTO(TETRA LOGISTICS)\,\nU-suke(Nightperformer)\,azaFuse(WATALU x KANASAKI)
URL:https://namura.cc/event/20080802/
ATTACH;FMTTYPE=:
END:VEVENT
END:VCALENDAR