BEGIN:VCALENDAR
VERSION:2.0
PRODID:-//クリエイティブセンター大阪（CCO） - ECPv6.2.1//NONSGML v1.0//EN
CALSCALE:GREGORIAN
METHOD:PUBLISH
X-WR-CALNAME:クリエイティブセンター大阪（CCO）
X-ORIGINAL-URL:https://namura.cc
X-WR-CALDESC:クリエイティブセンター大阪（CCO） のイベント
REFRESH-INTERVAL;VALUE=DURATION:PT1H
X-Robots-Tag:noindex
X-PUBLISHED-TTL:PT1H
BEGIN:VTIMEZONE
TZID:Asia/Tokyo
BEGIN:STANDARD
TZOFFSETFROM:+0900
TZOFFSETTO:+0900
TZNAME:JST
DTSTART:20080101T000000
END:STANDARD
END:VTIMEZONE
BEGIN:VEVENT
DTSTART;VALUE=DATE:20080815
DTEND;VALUE=DATE:20080816
DTSTAMP:20260426T064015
CREATED:20230215T114136Z
LAST-MODIFIED:20230215T114141Z
UID:1345-1218758400-1218844799@namura.cc
SUMMARY:NESTA BRAND'S WAYNE WONDER JAPAN TOUR in OSAKA
DESCRIPTION:NESTA BRAND & Club Ten-g Presents 3rd annual NESTA BRAND’S WAYNE WONDER JAPAN TOUR in OSAKA \nOPEN 22:00 CLOSE 5:00\nADV \3\,000　ADM \4\,000 \n◆SPECIAL ARTIST◆\n・WAYNE WONDER\n◆ARTIST◆\n・BOOGIE MAN\n・PETER MAN\n・VADER\n・CHEHON\n・MONKEY KEN\n・BIG BEAR\n・NATURAL WEAPON\n・TAK-Z\n・MISON-B \n◆SOUND◆\n・SOUND PLATINUM with SOUND SYSTEM\n・BURN DOWN\n・SCORPION\n・KING JAM\n・HACNAMATADA\n・MADADAN SOUNDZ \n◆WARM UP SOUND◆\n・SMOKE KING\n・REALLY WORTH \n・NESTA OSAKA　06-6120-1710\n・AGITATION　06-6245-5800\n・FIVE STAR　06-6538-9001\n・GLASSY surf shop　0725-22-8346\n・POWER RECORDS　06-6211-1516\n・FROG STORE アメ村　06-6211-0993\n・FROG STORE 岸和田　072-430-6900\n・ROCKERS ISLAND　06-6214-7565\n・LOW LOUD　072-445-5567\n・club Ten-G　072-238-2266\n・SUPER STAR　072-469-5878
URL:https://namura.cc/event/20080815/
ATTACH;FMTTYPE=image/jpeg:https://namura.cc/wp-content/uploads/2023/02/20080811-nesta.jpg
END:VEVENT
END:VCALENDAR