BEGIN:VCALENDAR
VERSION:2.0
PRODID:-//クリエイティブセンター大阪（CCO） - ECPv6.2.1//NONSGML v1.0//EN
CALSCALE:GREGORIAN
METHOD:PUBLISH
X-ORIGINAL-URL:https://namura.cc
X-WR-CALDESC:クリエイティブセンター大阪（CCO） のイベント
REFRESH-INTERVAL;VALUE=DURATION:PT1H
X-Robots-Tag:noindex
X-PUBLISHED-TTL:PT1H
BEGIN:VTIMEZONE
TZID:Asia/Tokyo
BEGIN:STANDARD
TZOFFSETFROM:+0900
TZOFFSETTO:+0900
TZNAME:JST
DTSTART:20080101T000000
END:STANDARD
END:VTIMEZONE
BEGIN:VEVENT
DTSTART;VALUE=DATE:20080927
DTEND;VALUE=DATE:20080928
DTSTAMP:20260426T051051
CREATED:20230215T112820Z
LAST-MODIFIED:20230215T112831Z
UID:1332-1222473600-1222559999@namura.cc
SUMMARY:ASOBI NITE!!! in OSAKA
DESCRIPTION:2008/9/27[sat]\nSTART 22:00 \nADV \3500\nDOOR \4000\n1ドリンク別途 \500 \nGUEST DJS \n・中田ヤスタカ(CAPSULE)\n・TetsushiHiroyama（RYUKYUDISKO）\n・YosukeHiroyama（RYUKYUDISKO）\n・THE LOWBROWS\n・YATT \nGUET LIVE\n・MEG \nDJS\n・DJ KENZI(BLACK BEATZ BOX)\n・TAKU-HERO(ELEKTROJUNKIE / NIGHTWALKER)\n・STAR BROS(SPARK STAR)\n・FU-TSUKA(SPARK STAR)\n・NAO ROCK(PUSSYMO/FUNKY BOSS)\n・VORTECH S(Hirouz&KILA)\n・DJ Q(FANCY PERIOD)\n・t.k.c\n・sickboi\n・U?TO！\n・PPP\n・MONKEY SEX (RESET) \n>>>INFO\nhttp://www.asobinite.com/
URL:https://namura.cc/event/20080927/
ATTACH;FMTTYPE=image/jpeg:https://namura.cc/wp-content/uploads/2023/02/20080917-pict0.jpg
END:VEVENT
END:VCALENDAR