BEGIN:VCALENDAR
VERSION:2.0
PRODID:-//クリエイティブセンター大阪（CCO） - ECPv6.2.1//NONSGML v1.0//EN
CALSCALE:GREGORIAN
METHOD:PUBLISH
X-WR-CALNAME:クリエイティブセンター大阪（CCO）
X-ORIGINAL-URL:https://namura.cc
X-WR-CALDESC:クリエイティブセンター大阪（CCO） のイベント
REFRESH-INTERVAL;VALUE=DURATION:PT1H
X-Robots-Tag:noindex
X-PUBLISHED-TTL:PT1H
BEGIN:VTIMEZONE
TZID:Asia/Tokyo
BEGIN:STANDARD
TZOFFSETFROM:+0900
TZOFFSETTO:+0900
TZNAME:JST
DTSTART:20080101T000000
END:STANDARD
END:VTIMEZONE
BEGIN:VEVENT
DTSTART;VALUE=DATE:20081005
DTEND;VALUE=DATE:20081006
DTSTAMP:20260426T034414
CREATED:20230215T112542Z
LAST-MODIFIED:20230215T112555Z
UID:1327-1223164800-1223251199@namura.cc
SUMMARY:ART CORE FESTIVAL2008
DESCRIPTION:OPEN/START 13:00-\nADV:\2\,000/DOOR:\2\,500 (without 1d/\500) \nLIVE ACT:\nTRIBAL CHAIR from TOKYO\nmothercoat from TOKYO\nMONICA URANGRASS from TOKYO\nthree mono surround from KOBE \nGUEST DJ:\n西村道男（Nur./Getting Better/COWNTDOWN JAPAN FES)\nNISHINO(O-LEVEL) \nDJ:\nTOM☆BOY(XROSS OVER)/KOICHI SATO(CROSS COUNTER)\nRYOCHIN(BUMP AROUND)/HUMMER(MORTAL COMBAT)\nFUMiYA(MY GENERATION)/たらこりん♪(円)\nSHO∞TA(COOL ROCK)/KAJI(My December)\norganizer’s(AtlantiQs) \nhttp://whorin.com/artcore08/
URL:https://namura.cc/event/20081005/
ATTACH;FMTTYPE=:
END:VEVENT
END:VCALENDAR