BEGIN:VCALENDAR
VERSION:2.0
PRODID:-//クリエイティブセンター大阪（CCO） - ECPv6.2.1//NONSGML v1.0//EN
CALSCALE:GREGORIAN
METHOD:PUBLISH
X-ORIGINAL-URL:https://namura.cc
X-WR-CALDESC:クリエイティブセンター大阪（CCO） のイベント
REFRESH-INTERVAL;VALUE=DURATION:PT1H
X-Robots-Tag:noindex
X-PUBLISHED-TTL:PT1H
BEGIN:VTIMEZONE
TZID:Asia/Tokyo
BEGIN:STANDARD
TZOFFSETFROM:+0900
TZOFFSETTO:+0900
TZNAME:JST
DTSTART:20080101T000000
END:STANDARD
END:VTIMEZONE
BEGIN:VEVENT
DTSTART;VALUE=DATE:20081010
DTEND;VALUE=DATE:20081011
DTSTAMP:20260426T034423
CREATED:20230215T112420Z
LAST-MODIFIED:20230215T112433Z
UID:1325-1223596800-1223683199@namura.cc
SUMMARY:RADIO SOULWAX in OSAKA
DESCRIPTION:WeSC Presents\nRADIO SOULWAX in OSAKA \n2008/10/10[FRI]\nOPEN 21:00 \nADV \3\,800\nDOOR \4\,800 \nもうダンスとロックは切っても切り離せない存在までになった。\n今これを読んでいるあなたなら、ダンスフロアーがうねる様にロックンロールする瞬間を体験したことがあるのではないだろうか？\n何事にも始まりがあって、パイオニアがいる。世界中を席巻し留まることを知らないこのうねりを創ったパイオニアバンドの名をSOULWAXと呼び、その全てを一晩に集約したクラブナイトをRADIO SOULWAXと呼ぶ。バンド、SOULWAXとDJ、2many djsが一晩を創り上げるというこの画期的なアイディアはそれまで近くて遠かったバンドとDJ、ロックとダンスという二つの存在を一つのフロアーに融合させることに成功した。妄想でも、過言でもない。全ては彼らから始まったのだ…。\nその張本人、StephenとDavid兄弟が待ち焦がれていた大阪にやってくる。しかも今回はバンドHi-STANDARDでパンクの一時代を築き上げ、100万枚のセールスという偉業をやってのけた難波＆恒岡という猛者との共演なのだから期待が高まるのも無理もない。\n10月10日は文字通り一時代を築き上げたアーティストがナイトクラブで見せる唯一無二のロックンロールショーだ。\n大声を上げて汗だくになってギターノイズと8ビートに狂ってほしい。 \n※20歳未満の方、写真付身分証明書をお持ちでない方のご入場はお断りさせて頂きます。\nEntry will not be permitted if you don’t have a form of photo identification or you are under the age of 20 \n>>>Live\nSOULWAX\nAKIHIRO NAMBA (Hi-STANDARD×ULTRA BRAiN) with AKIRA TSUNEOKA\n(Hi-STANDARD\, cbsmgrfc five)\nReloaded FILM 21 \n>>>Djs\n2many djs\nMasatoshi Uemura\nDJ JUSE\nand more \n>>>TICKETS\nプレイガイド：\nイープラス\nhttp://eplus.jp/radiosoulwax\nチケットぴあ\nTEL: 0570-02-9999　P-コード 305-045\nhttp://t.pia.jp/ \nチケット取り扱い店舗：\nLive&Bar 11\n大阪市中央区西心斎橋1-4-5御堂筋ビル11F\nTel:06 6243 0089\nhttp://www.onzi-eme.com/ \nFAN\n大阪市西区北堀江1-15-10\nTel:06-4391-2112\nhttp://fan.on-co.com/ \nTIME BOMB RECORDS\n大阪市中央区西心斎橋2-9-28 サンボウルBF\nTel:06-6213-5079\nhttp://www.timebomb.co.jp/ \nFLAKE RECORDS\n大阪市西区南堀江1-11-9 SONO四ツ橋ビル201\nTel:06-6534-741\nhttp://www.flakerecords.com/ \nCYDER RECORDS\n大阪市中央区西心斎橋1-10-25 COMODOビルディング 202\nTel:06-6241-6285\nhttp://www.cyder-osaka.net/ \nPELICAN boutique\n大阪市中央区東心斎橋1-20-16\nTel:06-6245-8699\nhttp://www.grouppelican.com/ \nItalian Bar PELICAN\n大阪市中央区南船場2-11-22\nTel:06-6241-3533\nhttp://r.gnavi.co.jp/c527700/ \nJET SET KYOTO\n京都市中京区河原町三条上ル下丸屋町 410 ユニティ河原町ビル6F\nTel:075-253-3530\nhttp://www.jetsetrecords.net/ \nRheingold\n神戸市中央区磯上通8丁目1-23 ミント神戸 4F\nTel:078-271-3757\nhttp://www.mint-kobe.jp/4f_rheingold.html \n※出演アーティストの変更・キャンセル、出演日の変更による前売りチケットの払い戻しは一切致しません。\nAdvance tickets are not returnable even alteration of artists\, date and cancellation \n主催：WeSC\n協力：WE LOVE MUSIC / VITHMIC MUSIC / F.E.U. / VICE / mangalife\n制作協力：CREATIVEMAN PRODUCTIONS\n問い合わせ先： VITHMIC MUSIC 06 6243 0089 / F.E.U. 03 6231 5046
URL:https://namura.cc/event/20081010/
ATTACH;FMTTYPE=image/jpeg:https://namura.cc/wp-content/uploads/2023/02/20080922-20081010.jpg
END:VEVENT
END:VCALENDAR