BEGIN:VCALENDAR
VERSION:2.0
PRODID:-//クリエイティブセンター大阪（CCO） - ECPv6.2.1//NONSGML v1.0//EN
CALSCALE:GREGORIAN
METHOD:PUBLISH
X-ORIGINAL-URL:https://namura.cc
X-WR-CALDESC:クリエイティブセンター大阪（CCO） のイベント
REFRESH-INTERVAL;VALUE=DURATION:PT1H
X-Robots-Tag:noindex
X-PUBLISHED-TTL:PT1H
BEGIN:VTIMEZONE
TZID:Asia/Tokyo
BEGIN:STANDARD
TZOFFSETFROM:+0900
TZOFFSETTO:+0900
TZNAME:JST
DTSTART:20080101T000000
END:STANDARD
END:VTIMEZONE
BEGIN:VEVENT
DTSTART;VALUE=DATE:20081011
DTEND;VALUE=DATE:20081012
DTSTAMP:20260426T034509
CREATED:20230215T112251Z
LAST-MODIFIED:20230215T112302Z
UID:1323-1223683200-1223769599@namura.cc
SUMMARY:R-2 PROMOTION presents 「MISSION 45」-45CLASH トーナメント’08-
DESCRIPTION:R-2 PROMOTION presents\n「MISSION 45」?45CLASH トーナメント’08? \n史上初全国から８クルーが集結し45を使用してのトーナメント方式のサウンドクラッシュ！どのサウンドがチャンピオンに輝くのか？それぞれアイデア、MC、曲等を駆使し繰り広げられる真の45エンターテイメントクラッシュ！2008年秋 日本のサウンドシーンに新たな1ページが刻まれる！\nDon’t miss it！ Respect！ \n2008年10月11日（土）\n@STUDIO PARTITA\n大阪市住之江区北加賀屋 4-1-55\n名村造船跡地\nTEL：06-4702-7085\n(交通アクセス)\n大阪市営地下鉄 地下鉄四つ橋線 北加賀屋駅 4番出口より徒歩10分\n開場 22：00\n開演 0：30?Allnight\nADV：3\,000yen（ドリンク代別途）\nDOOR：3\,000yen（ドリンク代別途） \nhttp://realthingentertainment.com/topinfo/?p=75\n[出場クルー]\nBANTY FOOT from NAGOYA\nBASS GREEN from KYOTO\nFIRE WORKS from OSAKA\nMARSHALL LAW from YOKOHAMA\nSOUL UNIT from OSAKA\nSTEREO CRAVA ?The Strictly Hardcore? from OSAKA\nSWEETSOP ?musical murder? from TOKYO\nTERMINATOR from OSAKA \n[HOST MC]\nVADER \n優勝賞金：200\,000円 \nトーナメント方式\n8クルーをA組、B組２つに分け決勝を含め最多で３マッチ行ってもらいます。\n1ラウンドにつき各サウンド10分1回、5分1回を交互にプレイします。\n使用する曲は45（ダブプレート以外）ならどんな曲でもOK!!\n基本プレイバックは禁止です。ジャッジは会場のオーディエンス全員!! \n★各ラウンド、1サウンド10分1回、5分1回を交互にプレイ。\n★使用する曲は45（ダブプレート以外）ならどんな曲でもOK!!\n★基本プレイバックは禁止。\n★各ラウンドA\,Bどちらのブロックから始めるかは当日抽選。\n★サウンドの先攻、後攻も当日抽選。 \n■45クラッシュとは？\n45（※１）のみの選曲と、MCでどれだけフロアを盛り上げられるかを競う。\n従来のダブプレート（※２）を使用してのサウンドクラッシュとは異なり、\n各サウンドのエンターテイメント性が重要となるサウンドクラッシュ!!\n（※１）ここではダブプレート以外をいいます\n（※２）世界で１枚しか無いオリジナルレコードのこと。ヒット曲等の一部の歌詞を変更してもらい特別に歌ってもらうこと。 \n[入場料金]\n■前売\,当日共に　￥3000（税込) DRINK 別\n※深夜イベントの為18歳未満の方の入場はできません。(会場にてＩＤチェック有) \n[TICKETS]　9/20発売!\n●ローソンチケット 0570-084-005（Ｌコード／52844）\n●DISSIDENT 06-6212-5531\n●FIVE STAR 06-6538-9001\n●ROCKERS ISLAND 06-6537-6233\n●AGITATION OSAKA 06-6245-2800\n●OVERHAUL 075-254-8577\n●OVERPREAD 06-6543-5677\n●REAL THING ENTERTAINMENTホームページ（www.realthingentertainment.com） \n[INFO.]\n■STUDIO PARTITA 06-4702-7085\n■ROCKERS ISLAND 06-6537-6233\n■REAL THING ENTERTAINMENT 06-6654-5345 info@realthingentertainment.com
URL:https://namura.cc/event/20081011/
ATTACH;FMTTYPE=image/jpeg:https://namura.cc/wp-content/uploads/2023/02/20081008-6225f227cb.jpg
END:VEVENT
END:VCALENDAR