BEGIN:VCALENDAR
VERSION:2.0
PRODID:-//クリエイティブセンター大阪（CCO） - ECPv6.2.1//NONSGML v1.0//EN
CALSCALE:GREGORIAN
METHOD:PUBLISH
X-WR-CALNAME:クリエイティブセンター大阪（CCO）
X-ORIGINAL-URL:https://namura.cc
X-WR-CALDESC:クリエイティブセンター大阪（CCO） のイベント
REFRESH-INTERVAL;VALUE=DURATION:PT1H
X-Robots-Tag:noindex
X-PUBLISHED-TTL:PT1H
BEGIN:VTIMEZONE
TZID:Asia/Tokyo
BEGIN:STANDARD
TZOFFSETFROM:+0900
TZOFFSETTO:+0900
TZNAME:JST
DTSTART:20080101T000000
END:STANDARD
END:VTIMEZONE
BEGIN:VEVENT
DTSTART;VALUE=DATE:20081025
DTEND;VALUE=DATE:20081026
DTSTAMP:20260426T034414
CREATED:20230215T111827Z
LAST-MODIFIED:20230215T111827Z
UID:1315-1224892800-1224979199@namura.cc
SUMMARY:"www.burndownsound.com PRESENTS WARNING"
DESCRIPTION:2008/10/25\nopen/start 22:00?deepnight\n前売り　\3\,000\n※入場者に“WARNING”オリジナルMIX CDプレゼント \n当日　\3\,000 \n入場時にドリンク代別途\500必要 \n年齢制限\n18歳未満入場不可（IDチェック有り。身分を証明できるものをお持ちください）\nLINE UP；\nBURN DOWN\nSUNSET\nSUPER-G fr\,Mighty Crown\nCAPTAIN-C 20XX\nYARD BEAT \nLIVE；\nNG HEAD\nBOOGIE MAN\nPETER MAN\nBEAR MAN \nSYSTEM with；\nSUNSET\nBURN DOWN \nEarly JUGGLIN ; LITTLE SOLDIER \nチケット発売所 チケットぴあ　　0570-02-9999(Pコード 303-557)\nローソンチケット 0570-084-005（Lコード　59290）\nＣＮ（セブンイレブン）　0570-08-9999\nｅ＋　　　http://eplus.jp\nDISSIDENT 06-6212-5531／ROCKERS ISLAND 06-6537-6233\nFIVE STAR 06-6538-9001／OVER PREAD 06-6543-5677／LOW LOUD 072-445-5567\nチケット発売日 2008年9月6日（土）\n先行発売日 \n主催 BURN DOWN PRO\n制作 BACK YARD PROMOTION\n協賛\n協力 ROCKER’S ISLAND/FIVE STAR/DISSIDENT/OVER PREAD/LOW LOUD/PIF\ninfo…06-6213-2715（ＰＩＦ内）”
URL:https://namura.cc/event/20081025/
ATTACH;FMTTYPE=image/jpeg:https://namura.cc/wp-content/uploads/2023/02/20080925-0202.jpg
END:VEVENT
END:VCALENDAR