BEGIN:VCALENDAR
VERSION:2.0
PRODID:-//クリエイティブセンター大阪（CCO） - ECPv6.2.1//NONSGML v1.0//EN
CALSCALE:GREGORIAN
METHOD:PUBLISH
X-ORIGINAL-URL:https://namura.cc
X-WR-CALDESC:クリエイティブセンター大阪（CCO） のイベント
REFRESH-INTERVAL;VALUE=DURATION:PT1H
X-Robots-Tag:noindex
X-PUBLISHED-TTL:PT1H
BEGIN:VTIMEZONE
TZID:Asia/Tokyo
BEGIN:STANDARD
TZOFFSETFROM:+0900
TZOFFSETTO:+0900
TZNAME:JST
DTSTART:20080101T000000
END:STANDARD
END:VTIMEZONE
BEGIN:VEVENT
DTSTART;VALUE=DATE:20081109
DTEND;VALUE=DATE:20081110
DTSTAMP:20260426T021402
CREATED:20230215T111126Z
LAST-MODIFIED:20230215T111131Z
UID:1307-1226188800-1226275199@namura.cc
SUMMARY:「FREE TIBET\,FREE PEOPLE!」 フリーチベットフリーピープルチャリティーコンサート！
DESCRIPTION:「FREE TIBET\,FREE PEOPLE!」\nフリーチベットフリーピープルチャリティーコンサート！\n■２００８年１１月９日（日）\n■大阪名村造船所跡地　STUDIO PARTITA\n■OPEN１２：００ START１３：００\n■前売３０００円　当日４０００円　１ドリンク５００円\nPコード：305-200 \nhttp://ip.tosp.co.jp/i.asp?I=freeeeeeeeeeetibet 『ＦＲＥＥ ＴＩＢＥＴ，ＦＲＥＥ ＰＥＯＰＬＥ』とは？？\n…とは？と言っても、まずはみんなに音楽を思いっきり楽しんでもらうのが目的。\nでなきゃ意味がない。\nこのイベントは、人間の人間による人間の為の祭です。\n人間は色んな矛盾と問題を抱えてしまっている、という現実があるけど、祭りはそれを浄化する作用がある。\nだけども、やっぱりどうしても浄化しきれない矛盾や問題もあったりする。\nそれは決して忘れてはいけない事だと思う。\nそれがこのイベントのタイトルにもなっている、チベット問題。\nだけどこのイベントは政治的な主張を行うのが目的ではない。\n人間が持つべき自由、権利、尊厳、生命、そういった事をこのイベントを通じて感じ、考えるきっかけになればいいな、と思う。\nそしてそれが自分個人の中で完結せず、自分以外の人間や、それ以外のものや事についても感じ、考えれるように、と願っています。\nそれは、難しい事じゃあない。\nちょっと想像力を広げてみるだけの話。\nその想像力がどこまでも広がって、それが動物や虫や海や空や山、この地上に存在する全てのものへの祝福へと繋がっていけば、素晴らしい！\nまずは楽しもうぜ！\nそして、想像力を広げてみようぜ！\nそのほんの些細な思いや、ほんの些細なアクションが、想像してた以上のメッセージになって、想像もできない位に遠くにいる多くの人々を、励ましたり、助けたりする事になったりするんだぜ。\nそして、みんながこのイベントを楽しむ為に払ってくれたお金は、今現在、苦しんでいる人々への援助となるよう、しかるべき所へ寄付（近日発表）します。 \nサンクス！！ \n■出演■\n曽我部恵一BAND\nあふりらんぽ\nDODDODO\nANATAKIKOU\n青森最後の詩人ひろやー\njew’s-ear\nha-gakure\nアウトドアホームレス\nワッツーシゾンビ \n&MORE &MORE・・・！！
URL:https://namura.cc/event/20081109/
ATTACH;FMTTYPE=image/jpeg:https://namura.cc/wp-content/uploads/2023/02/20081008-29_1_NK623VPEWG.jpg
END:VEVENT
END:VCALENDAR