BEGIN:VCALENDAR
VERSION:2.0
PRODID:-//クリエイティブセンター大阪（CCO） - ECPv6.2.1//NONSGML v1.0//EN
CALSCALE:GREGORIAN
METHOD:PUBLISH
X-WR-CALNAME:クリエイティブセンター大阪（CCO）
X-ORIGINAL-URL:https://namura.cc
X-WR-CALDESC:クリエイティブセンター大阪（CCO） のイベント
REFRESH-INTERVAL;VALUE=DURATION:PT1H
X-Robots-Tag:noindex
X-PUBLISHED-TTL:PT1H
BEGIN:VTIMEZONE
TZID:Asia/Tokyo
BEGIN:STANDARD
TZOFFSETFROM:+0900
TZOFFSETTO:+0900
TZNAME:JST
DTSTART:20090101T000000
END:STANDARD
END:VTIMEZONE
BEGIN:VEVENT
DTSTART;VALUE=DATE:20090328
DTEND;VALUE=DATE:20090329
DTSTAMP:20260425T200659
CREATED:20230215T094110Z
LAST-MODIFIED:20230215T094110Z
UID:1208-1238198400-1238284799@namura.cc
SUMMARY:ULTRA PUMPIN　2009
DESCRIPTION:*-ULTRA PUMPIN　2009-@名村造船所跡地 \nOPEN 21:00 ADV:3500 DOOR:4000 \n関西のクラブシーンを牽引してきた伝説のパーティー「ULTRA PUMPIN」2009年の第1回目が決定！\n昨年末に名村造船所跡地をYOJIワールドに染めた\n日本が誇る世界のTOP DJ YOJI のスペシャルパーティーが開催決定だ！！ \n100万人以上が集まるビッグフェス「STREET PARADE」を筆頭に、\n世界中のビッグイベントでヘッドライナーとして招聘されているYOJIを体感できる世界でも数少ない希少な一夜の到来だ！\nそして今回SPECIAL CASTとして、”テクノ・ゴット”の名称で呼ばれる程のカリスマ性と、\nその革新的なスタイルで常にシーンをリードしてきたパイオニア、KEN ISHIIが登場する！ \nBLACKCHAMBERでは関西テクノシーンの前衛的PARTY「TETRA LOGISTICS」の開催が決定！\nスペシャルDJにFUMIYA TANAKAとリミックスアルバムをリリースする佐藤タイジ率いるSUNPAULOが登場！！\n世界シーンを最前列で駆け回る日本TOP　DJの共演で\n2009年のクラブシーンを大きく揺らす一夜が実現する！\n*@STUDIO PARTITA \n*YOJI(HELLHOUSE RECORDINGS)\nM.MINAMI\nsupecial guest DJ:KEN ISHII*\n*LAZER:PSYPNOTEKPROJECT*\nhttp://www.yojibiomehanika.com/\nhttp://www.namura.cc/partita.html \n@BLACK CHAMBER \n*-TETRA LOGISTICS-*\n**\n*RELEASE LIVE:SUN PAULO*\n*SPECIAL GUEST DJ:FUMIYA TANAKA\nDJ:KUNIMITSU/YASUHISA*\n*VJ:VISUALOGIC*
URL:https://namura.cc/event/ultra-pumpin%e3%80%802009/
ATTACH;FMTTYPE=image/png:https://namura.cc/wp-content/uploads/2023/02/20090214-DSC_0078.png
END:VEVENT
END:VCALENDAR