BEGIN:VCALENDAR
VERSION:2.0
PRODID:-//クリエイティブセンター大阪（CCO） - ECPv6.2.1//NONSGML v1.0//EN
CALSCALE:GREGORIAN
METHOD:PUBLISH
X-ORIGINAL-URL:https://namura.cc
X-WR-CALDESC:クリエイティブセンター大阪（CCO） のイベント
REFRESH-INTERVAL;VALUE=DURATION:PT1H
X-Robots-Tag:noindex
X-PUBLISHED-TTL:PT1H
BEGIN:VTIMEZONE
TZID:Asia/Tokyo
BEGIN:STANDARD
TZOFFSETFROM:+0900
TZOFFSETTO:+0900
TZNAME:JST
DTSTART:20090101T000000
END:STANDARD
END:VTIMEZONE
BEGIN:VEVENT
DTSTART;VALUE=DATE:20090906
DTEND;VALUE=DATE:20090907
DTSTAMP:20260425T095803
CREATED:20230215T091008Z
LAST-MODIFIED:20230215T091008Z
UID:1146-1252195200-1252281599@namura.cc
SUMMARY:AGGRESSIVE DOGS a.k.a UZI-ONE 25th Anniversary
DESCRIPTION:ALBUM“蒼き餓狼”TRIBUTE“真紅”“真我”2009 TOUR \n“ STOMPIN’ NITE -真我- ” \n〔CAST〕\nAGGRESSIVE DOGS a.k.a UZI-ONE\n10-FEET\nACIDMAN\nTHE RYDERS\nUP HOLD\n山嵐\nGNz-WORD\nｅｎｇｕ \n開場/開演　　16:30／17:00\n前売り/\3\,700　　当日/\4\,200\n【RED FLAME AREA】　featuring　“BASKE　MATSURI”\n-Street Performance Show Case-\n[BASKE SHOW]大阪籠球会 ほか\n[FOOTBALL SHOW]　RAPAZ\n[MC]マッチョＲ \n△チケット発売所\nチケットぴあ　　０５７０-０２-９９９９（Ｐコード：３３１-２\n０５）\nローソンチケット ０５７０-０８４-００５（Ｌコード：５３５４０）\nＣＮ（セブンイレブン）　 ０５７０?０８?９９９９\nｅ＋　　　　　　　　　　　　 http://eplus.jp \n主催：STOMPIN’ GROUND／BACK YARD PROMOTION\n制作：BACK YARD PROMOTION\n協力：DefSTAR RECORDS／BINTANG／PIF／TRIANGLE \n最近では大人気映画『クローズZERO?』の挿入歌でも話題の日本ラウドロック界パイ\nオニアaggressive dogsが主催を務めるイベント『STOMPIN　NITE』が大阪・北加賀屋\nで約4年ぶりとなる開催決定！ \n今回はALBUM“蒼き餓狼”＆TRIBUTE　ALBUM“真紅”“真我”にも参加する10-FEETや\nACIDMAN、山嵐にGNz-WORDなど豪華メンツに加え、海風そよぐ敷地内の≪RED FLAME\nAREA≫ではバスケの3on3やサッカーのリフティングショーなどのパフォーマンスが行\nわれる予定。1日中フェス気分が味わえ、とことん盛り上がる宴になること間違いな\nし！
URL:https://namura.cc/event/20090906/
ATTACH;FMTTYPE=image/jpeg:https://namura.cc/wp-content/uploads/2023/02/20090810-A.DOGS-Artist_photo2.jpg
END:VEVENT
BEGIN:VEVENT
DTSTART;VALUE=DATE:20090906
DTEND;VALUE=DATE:20090907
DTSTAMP:20260425T095803
CREATED:20230215T091145Z
LAST-MODIFIED:20230215T091145Z
UID:1148-1252195200-1252281599@namura.cc
SUMMARY:あなたの街にROARSが?!
DESCRIPTION:■開催日時　9月6日　11:00-9:00\n■内容\n関西に初めて、ROARS ORIGINALが上陸！一日限定で大阪にOPEN！！ \n東京・青山にのみ店舗をかまえるROARS ORIGINALの新企画で、普段、\n商品を手にとって見ることの出来ないお客様へ、見て頂けるきっかけを作るべく、\n待ってないで、自分たちが行っちゃおう！と始まったこの企画！\n通販をご利用頂いているお客様への感謝の気持ちも込めて、1日限定ですが、\nROARS ORIGINALがＣＣＯにOPENいたします！\n今季より立ち上げのROARS RIDERSの先行発売もかねた今回の企画では、\n実際に手にとって商品を見ることができ、サイズの確認やご購入も可能です！ \n入場には、混雑を避けるため、また、ゆっくりと商品をご覧になって頂くために、\n入場制限がございます。予め、招待状をご請求下さい。 \n■お問合せ\nROARS AOYAMA\nTEL　03-6411-5754/Mail　info@roars.jp\nWEB　http://www.roars.jp
URL:https://namura.cc/event/20090906-2/
ATTACH;FMTTYPE=image/jpeg:https://namura.cc/wp-content/uploads/2023/02/20090902-20090906ROARSRIDRSDMvol.jpg
END:VEVENT
END:VCALENDAR