BEGIN:VCALENDAR
VERSION:2.0
PRODID:-//クリエイティブセンター大阪（CCO） - ECPv6.2.1//NONSGML v1.0//EN
CALSCALE:GREGORIAN
METHOD:PUBLISH
X-ORIGINAL-URL:https://namura.cc
X-WR-CALDESC:クリエイティブセンター大阪（CCO） のイベント
REFRESH-INTERVAL;VALUE=DURATION:PT1H
X-Robots-Tag:noindex
X-PUBLISHED-TTL:PT1H
BEGIN:VTIMEZONE
TZID:Asia/Tokyo
BEGIN:STANDARD
TZOFFSETFROM:+0900
TZOFFSETTO:+0900
TZNAME:JST
DTSTART:20090101T000000
END:STANDARD
END:VTIMEZONE
BEGIN:VEVENT
DTSTART;VALUE=DATE:20091123
DTEND;VALUE=DATE:20091124
DTSTAMP:20260425T061901
CREATED:20230215T084310Z
LAST-MODIFIED:20230215T084320Z
UID:1111-1258934400-1259020799@namura.cc
SUMMARY:電撃！ザ・マックショウ カンバック・リサイタル
DESCRIPTION:■日時　 2009年11月23日（月祝）OPEN17:30/START18:30\n■会場　STUDIO PARTITA\n■料金　 【前売】5\,000円　【当日】 5\,500円（1ドリンク別）\n■お問合せ：\nTEL：アイエヌジープラス　072-866-4353\nhttp://bad-rec.com/pc/ \n雨の日比谷から一年半、伝説の放蕩息子が帰ってきた！\n全ての永久未成年たちに捧ぐ。
URL:https://namura.cc/event/20091123/
ATTACH;FMTTYPE=:
END:VEVENT
END:VCALENDAR