BEGIN:VCALENDAR
VERSION:2.0
PRODID:-//クリエイティブセンター大阪（CCO） - ECPv6.2.1//NONSGML v1.0//EN
CALSCALE:GREGORIAN
METHOD:PUBLISH
X-WR-CALNAME:クリエイティブセンター大阪（CCO）
X-ORIGINAL-URL:https://namura.cc
X-WR-CALDESC:クリエイティブセンター大阪（CCO） のイベント
REFRESH-INTERVAL;VALUE=DURATION:PT1H
X-Robots-Tag:noindex
X-PUBLISHED-TTL:PT1H
BEGIN:VTIMEZONE
TZID:Asia/Tokyo
BEGIN:STANDARD
TZOFFSETFROM:+0900
TZOFFSETTO:+0900
TZNAME:JST
DTSTART:20100101T000000
END:STANDARD
END:VTIMEZONE
BEGIN:VEVENT
DTSTART;VALUE=DATE:20100306
DTEND;VALUE=DATE:20100307
DTSTAMP:20260424T234032
CREATED:20230215T074759Z
LAST-MODIFIED:20230215T074811Z
UID:1035-1267833600-1267919999@namura.cc
SUMMARY:BLAZING DOG ENTERTAINMENT prezents VINTAGE TIME vol.2
DESCRIPTION:2010/3/6(sat)\nOPEN/START 22:00?TILL MORNING \n前売り　\3\,000\n当日券　\3\,500\n（入場時ドリンク代別途\500必要） \n※18歳未満入場不可（IDチェック有。身分を証明できるものをお持ち下さい。）\nSPECIAL GUEST;\nINNER CIRCLE \nGUEST SOUND:\nBARRIER FREE\nSENSATION \n[SOUND SYSTEM] BLAZING DOG \nTicket PIA 0570-02-9999 (P-CODE:349-546)\nLOWSON ticket 0570-084-005 (L-CODE:56121)\nCN playguide 0570-08-9999\ne+ http://eplus.jp \n主催　BLAZING DOG ENTERTAINMENT\n制作　BACK YARD PROMOTION
URL:https://namura.cc/event/20100306/
ATTACH;FMTTYPE=:
END:VEVENT
END:VCALENDAR