BEGIN:VCALENDAR
VERSION:2.0
PRODID:-//クリエイティブセンター大阪（CCO） - ECPv6.2.1//NONSGML v1.0//EN
CALSCALE:GREGORIAN
METHOD:PUBLISH
X-ORIGINAL-URL:https://namura.cc
X-WR-CALDESC:クリエイティブセンター大阪（CCO） のイベント
REFRESH-INTERVAL;VALUE=DURATION:PT1H
X-Robots-Tag:noindex
X-PUBLISHED-TTL:PT1H
BEGIN:VTIMEZONE
TZID:Asia/Tokyo
BEGIN:STANDARD
TZOFFSETFROM:+0900
TZOFFSETTO:+0900
TZNAME:JST
DTSTART:20100101T000000
END:STANDARD
END:VTIMEZONE
BEGIN:VEVENT
DTSTART;VALUE=DATE:20100501
DTEND;VALUE=DATE:20100502
DTSTAMP:20260424T041024
CREATED:20230215T073220Z
LAST-MODIFIED:20230215T073231Z
UID:1006-1272672000-1272758399@namura.cc
SUMMARY:THE CARNIVAL 2010
DESCRIPTION:【出演】随時発表\n（最新情報は「THE CARNIVAL BLOG http://ameblo.jp/thecarnival/」をチェック！\n【開催日】2010年5月1日（土曜日）\n【時間】15:00-5:00（14時間）\n【値段】前売：￥3\,500　当日：￥4\,500（入場時別途DRINK代￥500必要）\n【チケット情報】\n電子チケットぴあ　コード103-030　TEL：0570-02-9999\nローソンチケット　コード54761　TEL:0570-084-005\ne＋（イープラス）　http://eplus.jp（パソコン・携帯）\n5月1日、大阪市住之江区北加賀屋名村造船所跡地のスタジオ・パルティッタにてFOCUS興業主催、関西ヒップホップ・シーンを牽引するアーティストたちが年に一度、自らの手で娯楽の殿堂、関西をヒップホップ＝純粋な音楽、健全なるストリート・カルチャーの力で盛り上げるために集結する最大規模のお祭り、＜THE CARNIVAL 2010＞の開催が今年も決定。\n現在のところ出演が決定しているアーティストは、「ヒップホップ」というカルチャーに立脚して様々なフィールドで活動を続ける「関西オールスター」と呼ぶに相応しい魅力的な面々。（出演アーティスト名はTHE CARNIVAL BLOG http://ameblo.jp/thecarnival/で続々更新中！） \nさらに毎年恒例、次世代を担うMCたちがトーナメント形式で激突するスリリングなライヴ・バトル、そしてMCと並んで「ヒップホップ・カルチャー」の重要な 要素を占めるダンス・シーン、DJ・シーンからも関西最高峰のアーティストを招集、広大なメイン会場外のスペースではバスケットボール、スケート・ボード のショウも実施され、全国の名物グルメが揃う屋台も多数出店、夕方から翌朝までオーディエンスを飽きさせない多彩なコンテンツと共に、関西ヒップホップ・ シーンの底力を見せつける、文字通りお祭り騒ぎ必至の一日となりそうだ。 \nまた、今年はアメリカはNYCより、激ヤバアーティストが参戦決定！ \n“Bucktown”、”Sound Bwoy Bureill”、”Stand Strong”等、メロウな曲からハードなビートまで、全てにおいてビートマイナーズ色の濃い(=煙たい)サウンドで彩られ、特に大ヒットシングルの”Wrekonize”では、グローバー・ワシントン・Jr.の”Just the Two of Us”をネタに使い、従来のファン層に加え女性リスナーの人気も得たLEGEND「Smif-n-Wessun」!!\nマライアキャリー・マイケルジャクソン・安室奈美恵等のPV出演・DANCE振り付けなどを担当し、世界を代表するDANCE HIPHOPチーム。今回のメンバーは、リンク（ヘンリー）、ボビー、テリー、ストレッチ、ルース・ジョイント、日本のダンスシーンに与えた影響は計り知れない「elite force」!! \n今年は見逃せない事必至！！！！ \n会場へのアクセス、サプライズ・ゲストの発表などイベント詳細は、\nFOCUS HP＜http://www.focus-k.com/contents/spc/carnival/2009/index.html＞\nにて随時更新。 \n【問】THE CARNIVAL実行委員会 / FOCUS興業\nTEL 06-6561-1877／FAX 06-6561-1877／MAIL info@focus-k.com\n【企画・制作】THE CARNIVAL実行委員会 / FOCUS興業
URL:https://namura.cc/event/20100501/
ATTACH;FMTTYPE=image/jpeg:https://namura.cc/wp-content/uploads/2023/02/20100326-CARNIVAL.jpg
END:VEVENT
END:VCALENDAR