BEGIN:VCALENDAR
VERSION:2.0
PRODID:-//クリエイティブセンター大阪（CCO） - ECPv6.2.1//NONSGML v1.0//EN
CALSCALE:GREGORIAN
METHOD:PUBLISH
X-ORIGINAL-URL:https://namura.cc
X-WR-CALDESC:クリエイティブセンター大阪（CCO） のイベント
REFRESH-INTERVAL;VALUE=DURATION:PT1H
X-Robots-Tag:noindex
X-PUBLISHED-TTL:PT1H
BEGIN:VTIMEZONE
TZID:Asia/Tokyo
BEGIN:STANDARD
TZOFFSETFROM:+0900
TZOFFSETTO:+0900
TZNAME:JST
DTSTART:20100101T000000
END:STANDARD
END:VTIMEZONE
BEGIN:VEVENT
DTSTART;VALUE=DATE:20100522
DTEND;VALUE=DATE:20100523
DTSTAMP:20260424T041023
CREATED:20230215T072832Z
LAST-MODIFIED:20230215T072832Z
UID:998-1274486400-1274572799@namura.cc
SUMMARY:YOJI presents ULTRA PUMPIN 2010!!
DESCRIPTION:５月２２日ULTRAPUMPINにテックダンス界のニューヒーローVANDALLをＵＫより迎えて開催です。\n今年２回目のパンピンはハードダンスに焦点を絞り、普段のパルティッタの音響システムにCOBRA PWH SOUND SYSTEMを追加し、テックダンス界のニューヒーローＶＡＮDALLの迎\nえます。2001年も国内外のビックギグを消化し更なる進化を遂げているＹＯＪI氏の注目の第２ラウンドがいよいよ開催です。 \nULTRA PUMPIN 2010\n05/22(SAT)@名村造船所跡地 \nYOJI [HELLHOUSE RECORDINGS]\nVANDALL from UK\nOingoBoingo DJ’s [NoiseMAKER]\nDJ SHINE(SQUAIR / Weapon records)\nDJ M.MINAMI\nLIVE:INDIGO (NUTEK RECORDS / BLISSDOM RECORDINGS / JP)\nVJ&LAZER:Psypnotek Project\nDANCER:烏來KYOTO \nROOM2::EDEN \nDJs:MASTER AZIA（EDEN/LUNARGATE）\nMario+Control\nKitten aka Mikanyan\nHiroX（RAVENSGATE）\nYAMA（EDEN）\nCHIHIRO（EDEN） \n■VJs\nHALWO SAKAMOTO\nＵＣＨＨＹ \n■DANCER\nRUSH \nＦＯＯＤ:世界食堂/hirara etc \nＯＰＥＮ　２１：００ 前売:3500円 当日:４０００円\n**心斎橋大丸前から１時間おきに送迎バスあり！
URL:https://namura.cc/event/yoji-presents-ultra-pumpin-2010/
ATTACH;FMTTYPE=image/jpeg:https://namura.cc/wp-content/uploads/2023/02/20100422-YOJI_X-YearsOfHellhouse-1.jpg
END:VEVENT
END:VCALENDAR