BEGIN:VCALENDAR
VERSION:2.0
PRODID:-//クリエイティブセンター大阪（CCO） - ECPv6.2.1//NONSGML v1.0//EN
CALSCALE:GREGORIAN
METHOD:PUBLISH
X-WR-CALNAME:クリエイティブセンター大阪（CCO）
X-ORIGINAL-URL:https://namura.cc
X-WR-CALDESC:クリエイティブセンター大阪（CCO） のイベント
REFRESH-INTERVAL;VALUE=DURATION:PT1H
X-Robots-Tag:noindex
X-PUBLISHED-TTL:PT1H
BEGIN:VTIMEZONE
TZID:Asia/Tokyo
BEGIN:STANDARD
TZOFFSETFROM:+0900
TZOFFSETTO:+0900
TZNAME:JST
DTSTART:20100101T000000
END:STANDARD
END:VTIMEZONE
BEGIN:VEVENT
DTSTART;VALUE=DATE:20100710
DTEND;VALUE=DATE:20100711
DTSTAMP:20260424T011452
CREATED:20230215T071329Z
LAST-MODIFIED:20230215T071339Z
UID:969-1278720000-1278806399@namura.cc
SUMMARY:DEF MUSIC-SUMMER SPECIAL-
DESCRIPTION:2010年7月10日（土）\nSTART/OPEN　12:00 \n【前売】3\,000円\n【当日】3\,500円\n※入場者多数の場合、入場を制限させて頂く場合がございますので、予めご了承頂きますようお願い申し上げます。\n※座席形態オールスタンディング\n※入場整理番号\n※年齢制限なし\n※ドリンク入場時にドリンク代別途￥５００必要\n■出演\nRELEASE LIVE：草川瞬　JACK EARZ　大雅歩\nPICK UP LIVE：BIRTH　THE CHAMPIONZ \n■チケット取扱\nチケットぴあ\nTEL 0570-02-9999 Pコード：107-552 \nローソンチケット\nTEL 0570-084-005 Lコード：54753 \nCNプレイガイド\nTEL 0570-08-9999 \ne+\nWEB http://eplus.jp \n5月17日（月）発売開始 \n■主催\nDEF MUSIC ENTERTAINMENT
URL:https://namura.cc/event/20100710/
ATTACH;FMTTYPE=image/jpeg:https://namura.cc/wp-content/uploads/2023/02/20100521-a5_DEFMUSIC06_4c.jpg
END:VEVENT
END:VCALENDAR