BEGIN:VCALENDAR
VERSION:2.0
PRODID:-//クリエイティブセンター大阪（CCO） - ECPv6.2.1//NONSGML v1.0//EN
CALSCALE:GREGORIAN
METHOD:PUBLISH
X-ORIGINAL-URL:https://namura.cc
X-WR-CALDESC:クリエイティブセンター大阪（CCO） のイベント
REFRESH-INTERVAL;VALUE=DURATION:PT1H
X-Robots-Tag:noindex
X-PUBLISHED-TTL:PT1H
BEGIN:VTIMEZONE
TZID:Asia/Tokyo
BEGIN:STANDARD
TZOFFSETFROM:+0900
TZOFFSETTO:+0900
TZNAME:JST
DTSTART:20100101T000000
END:STANDARD
END:VTIMEZONE
BEGIN:VEVENT
DTSTART;VALUE=DATE:20100717
DTEND;VALUE=DATE:20100718
DTSTAMP:20260424T011445
CREATED:20230215T071150Z
LAST-MODIFIED:20230215T071201Z
UID:967-1279324800-1279411199@namura.cc
SUMMARY:WORLDOUT Presents SHINICHI OSAWA “SO2”× TOWA TEI “MOTIVATION H”W RELEASE PARTY
DESCRIPTION:日程：2010/7/17 SAT.\n会場：名村造船所跡地（STUDIO PARTITTA) \nMAIN DJ：TOWA TEI／SHINICHI OSAWA\nDJ：MASATOSHI UEMURA(OFF THE ROCKER/bonjour Records)／DJ GOLDEN\nVJ：AKIYOSHI MISHIMA／E-RANGE \nand more… \n☆OPEN AIR☆\nDJ：YOHEY YAMAMOTO(NOON)／古谷高治(degmeout CAFE)／KIMURA／KEN HAMAZAKI(浜崎健立美術館) \nFOOD：お茶漬けバァー 英楽／WORLDBAR／世界茶屋 \nMUSIC♪: HOUSE/ELECTRO/TECHNO/JAZZ\nOPEN/START：21:00?5:00\nイベントお問い合わせ先：世界WORLD 075-213-4119 \n料金：\n前売りチケット：３０００YEN（発売開始）\n当日：３５００YEN\n（＊前売り優先入場）\n（＊全てのお客様ドリンク代別途500円必要になります） \n＊ご注意\n当日は大変混雑が予想されますので優先入場させて頂く前売りチケットの購入をお勧めします。\nまた前売り購入者の方でも、余裕をもったお時間にご来場をお願いします。 \nPLAYGUIDE：\nチケット発売日2010年6月21日 (月)\nチケットぴあ 0570-02-9999(Pコード )\nローソンチケット 0570-084-005(Lコード )\nCNプレイガイド(セブンイレブン他) 0570-08-9999\ne+ \n＊京都贔屓でごめんなさい！\nプレミア前売チケット：２５００YEN\n（ WORLD店頭販売のみ／WORLD営業時間外はイマージアム2F事務所にて正午12：00?22：00まで受付しております。いつもWORLDをご愛顧頂きありがとうございます！！） \n＊HAPPY HOUR TIME：21:00?22：00までにエントランスを通過のお客様に限り、￥3000にてご優待入場！！善は急げ☆ \n＊HAPPY BIRTHDAY PRESENTS！\n7/17＆7/18がお誕生日の方、ご本人様無料招待！（必ず運転免許証又はパスポート、どちらかのIDをご持参ください）
URL:https://namura.cc/event/20100717/
ATTACH;FMTTYPE=image/jpeg:https://namura.cc/wp-content/uploads/2023/02/20100623-0717WORLDOUT.jpg
END:VEVENT
END:VCALENDAR