BEGIN:VCALENDAR
VERSION:2.0
PRODID:-//クリエイティブセンター大阪（CCO） - ECPv6.2.1//NONSGML v1.0//EN
CALSCALE:GREGORIAN
METHOD:PUBLISH
X-WR-CALNAME:クリエイティブセンター大阪（CCO）
X-ORIGINAL-URL:https://namura.cc
X-WR-CALDESC:クリエイティブセンター大阪（CCO） のイベント
REFRESH-INTERVAL;VALUE=DURATION:PT1H
X-Robots-Tag:noindex
X-PUBLISHED-TTL:PT1H
BEGIN:VTIMEZONE
TZID:Asia/Tokyo
BEGIN:STANDARD
TZOFFSETFROM:+0900
TZOFFSETTO:+0900
TZNAME:JST
DTSTART:20100101T000000
END:STANDARD
END:VTIMEZONE
BEGIN:VEVENT
DTSTART;VALUE=DATE:20100718
DTEND;VALUE=DATE:20100719
DTSTAMP:20260424T011451
CREATED:20230215T071028Z
LAST-MODIFIED:20230215T071038Z
UID:964-1279411200-1279497599@namura.cc
SUMMARY:THE STAR FESTIVAL 2010 「WORLD OF DANCE MUSIC FESTIVAL!」
DESCRIPTION:■2010.07.18(SUN)\nopen 20:30 start 21:00 \n■BLACK CHAMBER & STUDIO PARTITTA(大阪-名村造船所跡地-） \n■TICKETS INFORMATION \n・一般前売りチケット 3\,500円 ・当日チケット 4\,000円 \n■問合せ TRIANGLE(06-6212-2264)\n■TICKETS INFORMATION \n※ ローソンチケット　0570-084-005 L-CODE(51858)　http://l-tike.com/\n※ チケットぴあ　0570-02-9966 P-CODE(106-141) http://t.pia.jp\n※ CN(セブンイレブン) 0570-08-9999\n※ e＋ http://eplus.jp \n全国のローソン、ファミリーマート、ぴあ、サークルK・サンクスおよびTRIANGLE、協力各店舗にてご購入いただけます。取り扱い店舗は後日、フライヤー＆当ホームページ等にて発表致します。 \n※ 入場券は規定枚数に達し次第、販売を終了させて頂きますので、当日券の 販売が行われない場合もございます。ご希望の方はなるべく早めにご購入下さい。 \n++++++++ \n2010年7月18日（祝日前！）大阪住之江区　名村造船所跡地。野外のフェスティバル顔負けのジャンルの垣根を飛び越えるTHE STAR FESTIVAL 2010 SUMMERが開催決定！！7月遂に待望であり間違いなく今年のＢＥＳT ニューアルバム「KRYPTONITE」をリリースするシーンの最高峰DJ FRESH。「DJ KICKS」の圧巻の最新作をリリースしたばかりの鬼才中の鬼才JAMES HOLEN。BBC RADIO1よりMARY ANNE HOBBS。Richie Hawtin、Ricardo Villalobosと共に唯一無二のイノヴェーター/でありグルーヴマスターDanielBell！凱旋帰国　Tomoki Tamura！日本のエレクトロニックミュージックシーンの頂点に君臨するNUMB&SAIDRUM。ニューアルバムリリース直前DJ BAKU HYBRID DHARMA BAND!国内外でのステージでその実力をいかんなく発揮しているDaisuke　YamagishiのソロプロジェクトOMBなど２０１０年夏、最強のＷＯＲＬＤ　ＯＦ　ＤＡＮＣＥ　ＭＵＳＩＣ　ＦＥＳＴＩＶＡＬ開催！！ \n++++++++ \n■CAST \n【BLACKCHAMBER】 \nJAMES HOLDEN(bordercommunity) from UK\nTomoki Tamura(Four:Twenty/SAW/from UK)\nDANIELBELL(Accelerate/7th city/ELEVATE)\nNUMB&SAIDRUM\nKOICHI SATO\nKUNIMITSU (TetraLogisticS) \nLAZER:PsypnoTeK Project [Killer Sound INC.] \n【STUDIO PARTITA】 \nDJ FRESH(BREAKBEATKAOS) from UK\nMARY ANNE HOBBS (BBC RADIO1\, PLANET MU)\nDJ BAKU HYBRID DHARMA BAND（POPGROUP)\nDAMAGE(3AM SET)\nSound Pellegrino Thermal Team\nDJ MASASHI(HIGHLAND)\nDJ TOYO(BLACK BEATZ BOX/HIGHLAND) \nVJ:VISUALOGIC[LiveTechnical/TC RECORDINGS][MITSUHARU TANIDA + KAZUCHIKAFUKUMOTO] \n【OPEN AIR】 \nOMB (Frame / Baroque)\nYASUHISA(TetraLogisticS)\nMIZUKAWA \n【RED FRAME】 \nMSK&T-KAY(MCC)
URL:https://namura.cc/event/20100718/
ATTACH;FMTTYPE=:
END:VEVENT
END:VCALENDAR