BEGIN:VCALENDAR
VERSION:2.0
PRODID:-//クリエイティブセンター大阪（CCO） - ECPv6.2.1//NONSGML v1.0//EN
CALSCALE:GREGORIAN
METHOD:PUBLISH
X-ORIGINAL-URL:https://namura.cc
X-WR-CALDESC:クリエイティブセンター大阪（CCO） のイベント
REFRESH-INTERVAL;VALUE=DURATION:PT1H
X-Robots-Tag:noindex
X-PUBLISHED-TTL:PT1H
BEGIN:VTIMEZONE
TZID:Asia/Tokyo
BEGIN:STANDARD
TZOFFSETFROM:+0900
TZOFFSETTO:+0900
TZNAME:JST
DTSTART:20100101T000000
END:STANDARD
END:VTIMEZONE
BEGIN:VEVENT
DTSTART;VALUE=DATE:20101107
DTEND;VALUE=DATE:20101108
DTSTAMP:20260423T195045
CREATED:20230215T064811Z
LAST-MODIFIED:20230215T064819Z
UID:934-1289088000-1289174399@namura.cc
SUMMARY:FREE TIBET\,FREE PEOPLE！
DESCRIPTION:2010年11月7日(日)　at 大阪 名村造船所跡地 STUDIO PARTITA(2ステージ制)\nOPEN 12:00/START 13:00　￥3500/￥4000(+1D) \nぴあにて前売り発売中！\nPｺｰﾄﾞ121-091　http://t.pia.jp/ \n『FREE TIBET\,FREE PEOPLE！』特設サイト\nhttp://ameblo.jp/tamorinorappa103/ 【出演】\n曽我部恵一BAND\nおとぎ話(With Frend)\nオニ\nクリトリックリス\nマッカーサアコンチ\nOOUTAICHI\nPiika x Jim O’Rourke\nQomolangma Tomato NEW!!!\nMOROHA NEW!!!\nANATAKIKOU NEW!!!\nワッツーシゾンビ\n&more&more&more！！！！！！！ \n＊10/1(fri.) AM0:00より先行予約受付開始！ \n《予約方法》\n・件名【チケット予約】\n・氏名\n・ふりがな\n・連絡先ＴＥＬ\n・枚数\nを明記のうえ freetibet_info@yahoo.co.jp にて送信ください。\n受付完了しましたらこちらより整理番号を返信いたします。\n当日会場にて氏名・連絡先と整理番号の照合をいたしますので、\n上記明記の無い場合はメール予約を無効にする場合がございます。\nあらかじめご了承ください。 \n《ASIAN KUNG-FU GENERATIONの後藤正文さんからメッセージをいただきました！！》 \n一番恐ろしいことは、皆が忘れてしまうことだと思います。北京オリンピックの聖火リレーを、世界中で起きたチベットの自由に対する抗議活動を、4年に一度の平和の祭典の喧噪と共に記憶の片隅から放り出してしまうわけにはいきません。\nだから私は、2008年から、ギターアンプの上にチベットの旗を立てることにしました。チベットの人々の自由が、なんらかの形で保証されるまでです。これは音楽家として、彼らの自由が侵害されていることへの抗議でもありますが、同時に、様々なニュースを恐ろしいスピードで消費していく「世間」に対する告発の意味も込めています。\n我々音楽家に出来ることは、こうした小さな旗を、自由と開放を、人々の心にささやかに記して行くことだと私は思います。 \nASIAN KUNG-FU GENERATION\n後藤正文
URL:https://namura.cc/event/20101107/
ATTACH;FMTTYPE=image/jpeg:https://namura.cc/wp-content/uploads/2023/02/20101020-freetibet1.jpg
END:VEVENT
END:VCALENDAR