BEGIN:VCALENDAR
VERSION:2.0
PRODID:-//クリエイティブセンター大阪（CCO） - ECPv6.2.1//NONSGML v1.0//EN
CALSCALE:GREGORIAN
METHOD:PUBLISH
X-ORIGINAL-URL:https://namura.cc
X-WR-CALDESC:クリエイティブセンター大阪（CCO） のイベント
REFRESH-INTERVAL;VALUE=DURATION:PT1H
X-Robots-Tag:noindex
X-PUBLISHED-TTL:PT1H
BEGIN:VTIMEZONE
TZID:Asia/Tokyo
BEGIN:STANDARD
TZOFFSETFROM:+0900
TZOFFSETTO:+0900
TZNAME:JST
DTSTART:20100101T000000
END:STANDARD
END:VTIMEZONE
BEGIN:VEVENT
DTSTART;VALUE=DATE:20101113
DTEND;VALUE=DATE:20101114
DTSTAMP:20260423T195112
CREATED:20230215T064646Z
LAST-MODIFIED:20230215T064656Z
UID:932-1289606400-1289692799@namura.cc
SUMMARY:WAO FESTIVAL EXTRA
DESCRIPTION:WAO FESTIVAL EXTRA＠名村造船所跡地　ＳＴＵＤＩＯ　ＰＡＲＴＩＴＡ（大阪） \n■日時：2010/11/13(Sat)\n■OPEN ：15:00\n■チケット：前売\3\,000／当日\3\,500　※1ドリンク別\n■問合せ：06-6484-3880 \n< SPECIAL GUEST DJ>\nRAM RIDER(http://www.iflyer.jp/artist/ramrider) \n< SPECIAL GUEST LIVE >\nJaccaPoP\nHONOSHION(安穂野香＋春詩音） \n■INFORMATION\nぴあ 0570-02-9999（Pコード121-900)\nローソンチケット 0570-084-005(Lコード58429)\nFANJtwice 　06-6484-3880
URL:https://namura.cc/event/20101113/
ATTACH;FMTTYPE=:
END:VEVENT
END:VCALENDAR