BEGIN:VCALENDAR
VERSION:2.0
PRODID:-//クリエイティブセンター大阪（CCO） - ECPv6.2.1//NONSGML v1.0//EN
CALSCALE:GREGORIAN
METHOD:PUBLISH
X-WR-CALNAME:クリエイティブセンター大阪（CCO）
X-ORIGINAL-URL:https://namura.cc
X-WR-CALDESC:クリエイティブセンター大阪（CCO） のイベント
REFRESH-INTERVAL;VALUE=DURATION:PT1H
X-Robots-Tag:noindex
X-PUBLISHED-TTL:PT1H
BEGIN:VTIMEZONE
TZID:Asia/Tokyo
BEGIN:STANDARD
TZOFFSETFROM:+0900
TZOFFSETTO:+0900
TZNAME:JST
DTSTART:20110101T000000
END:STANDARD
END:VTIMEZONE
BEGIN:VEVENT
DTSTART;VALUE=DATE:20110210
DTEND;VALUE=DATE:20110211
DTSTAMP:20260423T112739
CREATED:20230215T063007Z
LAST-MODIFIED:20230215T063021Z
UID:913-1297296000-1297382399@namura.cc
SUMMARY:ZUM ZUM NIGHT -KENTY GROSS BIRTHDAY BASH2011-
DESCRIPTION:2011年2月10日(木・祝前) \nOPEN 23:00 \n(出演) \nKENTY GROSS \nand… \n(SOUND)\nRED SPIDER/Scorpion/SUN TOWN/RISKY DICE/IRIE INITY/SOUND GROSSY \n(DeeJay&MC)\nSHINGO★西成/PETER MAN/Prof.CHINNEN/VADER/SILVER KING/TONTO MAN/CHOP STICK/HIBIKILLA/MATTON/強/DADA \nand MORE GUEST!! \n前売 2500円\n当日 3500円\n※共にドリンク代別途500円必要です\n※オールナイト公演につき18歳未満入場不可
URL:https://namura.cc/event/20110210-2/
ATTACH;FMTTYPE=image/jpeg:https://namura.cc/wp-content/uploads/2023/02/20110204-20110210byp.jpg
END:VEVENT
END:VCALENDAR