BEGIN:VCALENDAR
VERSION:2.0
PRODID:-//クリエイティブセンター大阪（CCO） - ECPv6.2.1//NONSGML v1.0//EN
CALSCALE:GREGORIAN
METHOD:PUBLISH
X-ORIGINAL-URL:https://namura.cc
X-WR-CALDESC:クリエイティブセンター大阪（CCO） のイベント
REFRESH-INTERVAL;VALUE=DURATION:PT1H
X-Robots-Tag:noindex
X-PUBLISHED-TTL:PT1H
BEGIN:VTIMEZONE
TZID:Asia/Tokyo
BEGIN:STANDARD
TZOFFSETFROM:+0900
TZOFFSETTO:+0900
TZNAME:JST
DTSTART:20110101T000000
END:STANDARD
END:VTIMEZONE
BEGIN:VEVENT
DTSTART;VALUE=DATE:20110327
DTEND;VALUE=DATE:20110328
DTSTAMP:20260423T094844
CREATED:20230215T055112Z
LAST-MODIFIED:20230215T055121Z
UID:886-1301184000-1301270399@namura.cc
SUMMARY:WICKED
DESCRIPTION:■時間\n2011/3/27\nopen:13:30 close:22:00 \n■会場\nＰＡＲＴＩＴＡ \n■チケット\n・前売りチケット1000円\n・特別前売りチケット2000円\n(WICKED×OW6ダブルネームオリジナルタオル付き)\n・当日2500円\n＊別途1ドリンク代500円\n(前売りチケット取扱い店)\nローソン:56027\nチケットぴあ:133-252\nFIVE STAR\nDISSIDENT\nROCKERS ISLAND\nOVER PREAD\nTRICK STAR OSAKA\nOW6 FACTORY \n■問い合わせ先\nTotal info\n06-4390-0341 \n＊デイイベントの為未成年の入場可能
URL:https://namura.cc/event/20110327/
ATTACH;FMTTYPE=image/jpeg:https://namura.cc/wp-content/uploads/2023/02/20110327-IMG_4947.jpg
END:VEVENT
END:VCALENDAR