BEGIN:VCALENDAR
VERSION:2.0
PRODID:-//クリエイティブセンター大阪（CCO） - ECPv6.2.1//NONSGML v1.0//EN
CALSCALE:GREGORIAN
METHOD:PUBLISH
X-ORIGINAL-URL:https://namura.cc
X-WR-CALDESC:クリエイティブセンター大阪（CCO） のイベント
REFRESH-INTERVAL;VALUE=DURATION:PT1H
X-Robots-Tag:noindex
X-PUBLISHED-TTL:PT1H
BEGIN:VTIMEZONE
TZID:Asia/Tokyo
BEGIN:STANDARD
TZOFFSETFROM:+0900
TZOFFSETTO:+0900
TZNAME:JST
DTSTART:20110101T000000
END:STANDARD
END:VTIMEZONE
BEGIN:VEVENT
DTSTART;VALUE=DATE:20110401
DTEND;VALUE=DATE:20110402
DTSTAMP:20260423T081316
CREATED:20230215T054959Z
LAST-MODIFIED:20230215T054959Z
UID:884-1301616000-1301702399@namura.cc
SUMMARY:ZETTAI-MU"springup" 2011@名村造船所跡地
DESCRIPTION:2011/4/1(fri) 20:00-LATE\n* SonarSoundTokyoの日程短縮より4/1開催に変更になりました。 \n会場：CCO（STUDIO PARTITA&BLACK CHAMBER&RED FLAME ARENA&WHITE CHAMBER） \n第２段ラインナップ： \nBattles(Warp Records UK)\nFlying Lotus(Warp Records/Brainfeeder LA)\nModeselektor(Monkeytown Records\,DE) *New!!\n*toe(JP)*New!!\n*Dry&Heavy(JP) *New!!\n*Kode9(Hyperdub UK)\nO.N.O(THA BLUE HERB JP)\nMichita(Ill Dance Music\,JP) *New!!\n*And more…..
URL:https://namura.cc/event/zettai-muspringup-2011%e5%90%8d%e6%9d%91%e9%80%a0%e8%88%b9%e6%89%80%e8%b7%a1%e5%9c%b0/
ATTACH;FMTTYPE=image/jpeg:https://namura.cc/wp-content/uploads/2023/02/20110309-2dn_lineup_new.jpg
END:VEVENT
END:VCALENDAR