BEGIN:VCALENDAR
VERSION:2.0
PRODID:-//クリエイティブセンター大阪（CCO） - ECPv6.2.1//NONSGML v1.0//EN
CALSCALE:GREGORIAN
METHOD:PUBLISH
X-WR-CALNAME:クリエイティブセンター大阪（CCO）
X-ORIGINAL-URL:https://namura.cc
X-WR-CALDESC:クリエイティブセンター大阪（CCO） のイベント
REFRESH-INTERVAL;VALUE=DURATION:PT1H
X-Robots-Tag:noindex
X-PUBLISHED-TTL:PT1H
BEGIN:VTIMEZONE
TZID:Asia/Tokyo
BEGIN:STANDARD
TZOFFSETFROM:+0900
TZOFFSETTO:+0900
TZNAME:JST
DTSTART:20110101T000000
END:STANDARD
END:VTIMEZONE
BEGIN:VEVENT
DTSTART;VALUE=DATE:20110409
DTEND;VALUE=DATE:20110410
DTSTAMP:20260423T081322
CREATED:20230215T054851Z
LAST-MODIFIED:20230215T054903Z
UID:882-1302307200-1302393599@namura.cc
SUMMARY:STONES THROW LOVES JAPAN! TOUR 2011 in OSAKA
DESCRIPTION:STONES THROW LOVES JAPAN! TOUR 2011 in OSAKA\nfeat. PEANUT BUTTER WOLF\, J.ROCC & MAYER HAWTHORNE \n2011.4.9 (SAT) at 名村造船所跡地 STUDIO PARTITA & Red Frame \nPeanut Butter Wolf-Exclusive Live Video-DJ set-\nJ.ROCC (Beat Junkies)-”Some Cold Rock Stuf”Album Release Special DJ set-\nMayer Hawthorne-An Exclusive DJ set- \nDJ IKKEI / DJ A-KILLER / DJ QUESTA / DJ FLIP\nDJ TSUGU / DJ TAIZO / DJ MASH / DJ YASUSHI / DJ拓音 / DJ BONGFUNK / DJ MONTY\nDancer: sucreamgoodman & HEXBEX \nOPEN 21:00\nADV:3000 DOOR:3500(別途１D) \nローソンチケット　0570-084-005 Ｌコード(52980)\nチケットぴあ　0570-02-9966 P-CODE(131-781)\ne＋ http://eplus.jp\nCN playguide 0570-08-9999 \nWe love Japan!\nMessage from Stones Throw to Japan\,\nand an update on the Stones Throw Japan Tour \nこの度の東北太平洋沖地震によりによりお亡くなりになった方々のご冥福と被災地の方々ならびにそのご家族に対して、心からお見舞いを申し上げます。\nStones Throwが音楽レーベルとして設立された1996年より、私たちが素晴らしいと信じてリリースしてきた音楽作品に対しての日本の方々からの力強いサポートは、常に感謝の気持ちでいっぱいであります。現在日本の皆様が直面している困難な状況に対して、世界中からのサポートにより一日も早い復興が行われるよう、心よりお祈り申し上げます。今回の興行によるStones Throwへの利益は全てを日本赤十字社を通じて被災された方々への義援金とさせて頂きます。ツアー各開催地のファンの方々のリクエストとアーティスト達自身の「日本の為に何か行動をしたい」という強い気持ちによる決断。日本の方々には困難を乗り越えられる前向きで強い意思を持って頂く為、STONES THROWとSTUSSYは全力でサポートさせて頂きますので皆様のご協力を宜しくお願い致します。 \nSTONES THROWアーティスト、スタッフ一同\nhttp://www.stonesthrow.com/news/2011/03/we-love-japan \n会場も急遽変更となりましたがより大きな規模へ、よりよい公演へと向かってますので期待してお待ちください。\n乗車無料の送迎シャトルバスも心斎橋-会場間で運行されます。皆様の来場を心よりお待ちしてます。 \nSTONES THROW JAPAN TOUR 2011大阪公演関係者一同
URL:https://namura.cc/event/20110409/
ATTACH;FMTTYPE=image/jpeg:https://namura.cc/wp-content/uploads/2023/02/20110405-4.9-Stones-Throw-Namura-Osaka-Ura.jpg
END:VEVENT
END:VCALENDAR