BEGIN:VCALENDAR
VERSION:2.0
PRODID:-//クリエイティブセンター大阪（CCO） - ECPv6.2.1//NONSGML v1.0//EN
CALSCALE:GREGORIAN
METHOD:PUBLISH
X-WR-CALNAME:クリエイティブセンター大阪（CCO）
X-ORIGINAL-URL:https://namura.cc
X-WR-CALDESC:クリエイティブセンター大阪（CCO） のイベント
REFRESH-INTERVAL;VALUE=DURATION:PT1H
X-Robots-Tag:noindex
X-PUBLISHED-TTL:PT1H
BEGIN:VTIMEZONE
TZID:Asia/Tokyo
BEGIN:STANDARD
TZOFFSETFROM:+0900
TZOFFSETTO:+0900
TZNAME:JST
DTSTART:20110101T000000
END:STANDARD
END:VTIMEZONE
BEGIN:VEVENT
DTSTART;VALUE=DATE:20110503
DTEND;VALUE=DATE:20110504
DTSTAMP:20260423T063651
CREATED:20230215T054113Z
LAST-MODIFIED:20230215T054113Z
UID:862-1304380800-1304467199@namura.cc
SUMMARY:THE STAR FESTIVAL"GOLDENWEEK SPECIAL"DJ HARVEY×FUNCTION　JAPAN TOUR
DESCRIPTION:2011/5/3(tue)\nDJ HARVEY×FUNCTION　JAPAN TOUR\nTHE STAR FESTIVAL”GOLDENWEEK SPECIAL” \n@名村造船所跡地\nDJ HARVEY (Locussolus\, Sarcastic Disco / LA)\nEYE (BOREDOMS)\nALTZ(FLOWER OF LIFE)\nDNT(POWWOW / FLOWER OF LIFE)\nSUNPAULO（佐藤タイジ＆森俊之）\nCOLO(Betaland)\nLIGHTING:YAMACHANG \n@BLACKCHAMBER presented by TetraLogisticS\nFUNCTION (Sandwell District / Berlin)\nTOMOKI TAMURA(\nKUNIMITSU(TetralogisticS)\nYASUHISA(TetralogisticS)\nFUMI\nPsypnotek Project \nSETSUNA\nZYUACK(TIMOTHY REALLY / SELF SERVICE)\nMASANORI MIKAMI(SLEAZE)\nKIUCHI(URBAN RESEARCH/Outerspace Kobe)\nRyoYoshida \nFOOD:世界食道　and more!! \nOPEN 20:00　ADV:\3\,500　DOOR:\4\,000　グループ割チケット:\12\,000(4名様)　4日間通しチケット:\5\,000\nローソンチケット L-code(53428) / チケットぴあ P-code(135-633) / e+ / CN playguide\n★4日間通しチケット:\5\,000　L-code(56423) P-code(782-959) \n告知動画になります。\nhttp://www.youtube.com/watch?v=Ht0p4Zm1Mmw \n2011年GW、生ける伝説「DJ HARVEY」をヘッドライナーに迎えて、名村造船所にて西日本最大のダンスフェスが開催決定!!\nBlackchamberには相対するテクノ界における真のアンダーグラウンド・ヒーロー、ファンクションが登場する！ \nWEB SITE:http://www.thestarfestival.com/
URL:https://namura.cc/event/20110503/
ATTACH;FMTTYPE=image/jpeg:https://namura.cc/wp-content/uploads/2023/02/20110423-HARVEY11_JP_flyer_front.jpg
END:VEVENT
END:VCALENDAR