BEGIN:VCALENDAR
VERSION:2.0
PRODID:-//クリエイティブセンター大阪（CCO） - ECPv6.2.1//NONSGML v1.0//EN
CALSCALE:GREGORIAN
METHOD:PUBLISH
X-ORIGINAL-URL:https://namura.cc
X-WR-CALDESC:クリエイティブセンター大阪（CCO） のイベント
REFRESH-INTERVAL;VALUE=DURATION:PT1H
X-Robots-Tag:noindex
X-PUBLISHED-TTL:PT1H
BEGIN:VTIMEZONE
TZID:Asia/Tokyo
BEGIN:STANDARD
TZOFFSETFROM:+0900
TZOFFSETTO:+0900
TZNAME:JST
DTSTART:20110101T000000
END:STANDARD
END:VTIMEZONE
BEGIN:VEVENT
DTSTART;VALUE=DATE:20110506
DTEND;VALUE=DATE:20110507
DTSTAMP:20260423T063556
CREATED:20230215T053352Z
LAST-MODIFIED:20230215T053403Z
UID:860-1304640000-1304726399@namura.cc
SUMMARY:THE STAR FESTIVAL"GOLDENWEEK SPECIAL"Roni Size Japan Tour 2011 × D-NOX ＆ BECKERS 2nd Album "DISTANCE" Release Japan Tour
DESCRIPTION:2011/5/6(fri)\nTHE STAR FESTIVAL”GOLDENWEEK SPECIAL”\nRoni Size Japan Tour 2011 × D-NOX ＆ BECKERS 2nd Album “DISTANCE” Release Japan Tour\n@名村造船所跡地 \nSTUDIO PARTITA:: \nRONI SIZE(FULL CYCLE / V RECORDINGS)\nDJ KENTARO(NINJA TUNE)\nDJ BAKU(POP GROUP)\nKO-JI ZERO THREE\nDJ TOYO(Blackbeatzbox)\nDJ KENZ1(Blackbeatzbox)\nHIKARI CONNECTION\nMASSIVE(NIGHTLIFE)\nDJ MASASHI&MC AOI \nBLACK CHAMBER: \nRelease Special Live Se:\nD-NOX & BECKERS （ SPROUT : Germany）\nD-NOX ( SPROUT : Germany )\nBECKERS（SPROUT / ELECTRIBE / BAROQUE : Germany）\nKEN ISHII\nKOICHI SATO \nOPEN AIR:presented by Dream Festival Crew\nYOSUKE(HOUSE-STUDIO R) / POOH / idiot deUx / SHIMA aka SHI-MAXX / Yusuke Sakata \nBC 2F:DO UR THING LOUNGE:\nTWOSEVEN CLASH / Tokyo Component \nPebbles:presented by Warm\nHARUTAKA / LIGHT-ONE / MGO / KAZUYA TANAKA(CUE) / Chise / ILL DE CABEZA / NATSUKO / Alice / BigTed / U-SAKU / PPRKRFT / DJ SAYUMI \nFOOD:世界食道 and more!! \n開場　20時?オールナイト　前売：3500円　当日：4000円\nOPEN 20:00 ADV:3500 DOOR:4000\nグループ割引き　12000円（4枚組/1枚￥3000円）\nチケットぴあ　0570-02-9966(P-code:137-266）\nローソンチケット 0570-084-005(L-code:56439)\nCN Playguide 0570-08-9999\ne＋　http://eplus.jp\n★4日間通しチケット:\5\,000　L-code(56423) P-code(782-959)\n告知動画になります。\nhttp://www.youtube.com/watch?v=Ht0p4Zm1Mmw\nWEB SITE:\nhttp://www.thestarfestival.com/
URL:https://namura.cc/event/20110506/
ATTACH;FMTTYPE=image/jpeg:https://namura.cc/wp-content/uploads/2023/02/20110423-02.jpg
END:VEVENT
END:VCALENDAR