BEGIN:VCALENDAR
VERSION:2.0
PRODID:-//クリエイティブセンター大阪（CCO） - ECPv6.2.1//NONSGML v1.0//EN
CALSCALE:GREGORIAN
METHOD:PUBLISH
X-WR-CALNAME:クリエイティブセンター大阪（CCO）
X-ORIGINAL-URL:https://namura.cc
X-WR-CALDESC:クリエイティブセンター大阪（CCO） のイベント
REFRESH-INTERVAL;VALUE=DURATION:PT1H
X-Robots-Tag:noindex
X-PUBLISHED-TTL:PT1H
BEGIN:VTIMEZONE
TZID:Asia/Tokyo
BEGIN:STANDARD
TZOFFSETFROM:+0900
TZOFFSETTO:+0900
TZNAME:JST
DTSTART:20110101T000000
END:STANDARD
END:VTIMEZONE
BEGIN:VEVENT
DTSTART;VALUE=DATE:20110520
DTEND;VALUE=DATE:20110521
DTSTAMP:20260423T063653
CREATED:20230215T052915Z
LAST-MODIFIED:20230215T052915Z
UID:853-1305849600-1305935999@namura.cc
SUMMARY:「絆」Mu-mode Presents.
DESCRIPTION:超豪華海外アーティストの共演！！FERRY CORSTEN、DJ SLATER、autoKratz！！\n日本のアーティストも超豪華！SUGIURUMN、BRYAN BURTON-LEWIS、O-MAN…and more \n◆大阪公演2011年5月20日（金曜日)◆\nstudioPARTITA(名村造船跡地)\n※屋外特設ステージあり \n※両日程ともオールナイト公演　22：00?5：00\n※18歳未満の方のご入場をお断りします \n[ 料金 ]\n大阪前売りチケット￥4\,500/当日￥5\,000 \n[ チケット ]\n前売り先行限定発売 チケットぴあ Pコード[136-504]　発売中 \n前売り先行限定発売　eプラス　発売中 \nローソンチケット 発売中　Lコード　「56880」発売中
URL:https://namura.cc/event/20110520/
ATTACH;FMTTYPE=image/jpeg:https://namura.cc/wp-content/uploads/2023/02/20110427-kizuna0422_front.jpg
END:VEVENT
END:VCALENDAR