BEGIN:VCALENDAR
VERSION:2.0
PRODID:-//クリエイティブセンター大阪（CCO） - ECPv6.2.1//NONSGML v1.0//EN
CALSCALE:GREGORIAN
METHOD:PUBLISH
X-WR-CALNAME:クリエイティブセンター大阪（CCO）
X-ORIGINAL-URL:https://namura.cc
X-WR-CALDESC:クリエイティブセンター大阪（CCO） のイベント
REFRESH-INTERVAL;VALUE=DURATION:PT1H
X-Robots-Tag:noindex
X-PUBLISHED-TTL:PT1H
BEGIN:VTIMEZONE
TZID:Asia/Tokyo
BEGIN:STANDARD
TZOFFSETFROM:+0900
TZOFFSETTO:+0900
TZNAME:JST
DTSTART:20110101T000000
END:STANDARD
END:VTIMEZONE
BEGIN:VEVENT
DTSTART;VALUE=DATE:20110626
DTEND;VALUE=DATE:20110627
DTSTAMP:20260423T051137
CREATED:20230215T045146Z
LAST-MODIFIED:20230215T045146Z
UID:821-1309046400-1309132799@namura.cc
SUMMARY:UZUMAKI presents ドンギマナイト vol.3 Xtreme night
DESCRIPTION:14:00 open\n15:00 start \n新木場STUDIO COAST…大阪BIG CATと開催を重ねてきた\nドンギマナイト第三弾もUZUMAKI地元大阪で開催決定！ \n前売 ￥3\,800 / 当日 ￥4\,500\n（オールスタンディング・入場整理番号付・ドリンク別・税込） \n■一般発売日：2011年５月14日(土)\nチケットぴあ：0570-02-9999 （Pコード138-102）\nローソンチケット：0570-08-4005（Ｌコード：57986）\nCNプレイガイド：0570-08-9999 \n主催　UZUMAKI\n企画/制作 　UZUMAKI/gil sound works\n制作　KYODO GROUP INC./gil sound worls\n問い合わせ：キョードーインフォメーション　 06-7732-8888
URL:https://namura.cc/event/20110626/
ATTACH;FMTTYPE=image/jpeg:https://namura.cc/wp-content/uploads/2023/02/20110618-img57549939.jpg
END:VEVENT
END:VCALENDAR