BEGIN:VCALENDAR
VERSION:2.0
PRODID:-//クリエイティブセンター大阪（CCO） - ECPv6.2.1//NONSGML v1.0//EN
CALSCALE:GREGORIAN
METHOD:PUBLISH
X-WR-CALNAME:クリエイティブセンター大阪（CCO）
X-ORIGINAL-URL:https://namura.cc
X-WR-CALDESC:クリエイティブセンター大阪（CCO） のイベント
REFRESH-INTERVAL;VALUE=DURATION:PT1H
X-Robots-Tag:noindex
X-PUBLISHED-TTL:PT1H
BEGIN:VTIMEZONE
TZID:Asia/Tokyo
BEGIN:STANDARD
TZOFFSETFROM:+0900
TZOFFSETTO:+0900
TZNAME:JST
DTSTART:20110101T000000
END:STANDARD
END:VTIMEZONE
BEGIN:VEVENT
DTSTART;VALUE=DATE:20110723
DTEND;VALUE=DATE:20110724
DTSTAMP:20260423T032328
CREATED:20230214T094106Z
LAST-MODIFIED:20230214T094117Z
UID:815-1311379200-1311465599@namura.cc
SUMMARY:THE CARNIVAL 2011 -5th Anniversary-
DESCRIPTION:開場:13:00 / 終了予定:5:00 \n前売り:￥3\,500 当日:￥4\,500\n(要：入場時に別途ドリンク代￥500) \n注：前売りチケットお持ちの方は、入場混雑時最優先でご案内致します。 \n■ローソンチケット：0570-084-005 [Lコード : 59441]\n■チケットぴあ：0570-02-9999 [Pコード : 134-549]\n■e＋： http://eplus.jp \n※（入場時に身分証明書を提示させていただきます。）\n※（未成年者入場不可。[22:00以降]）\n※（20才未満の方は、アルコール飲料は購入できません。）\n※ 出演者の急遽キャンセルによるチケット払い戻しはできません。 \nhttp://www.focus-k.com/index.html
URL:https://namura.cc/event/20110723/
ATTACH;FMTTYPE=image/jpeg:https://namura.cc/wp-content/uploads/2023/02/20110614-carnival2011_723.jpg
END:VEVENT
END:VCALENDAR