BEGIN:VCALENDAR
VERSION:2.0
PRODID:-//クリエイティブセンター大阪（CCO） - ECPv6.2.1//NONSGML v1.0//EN
CALSCALE:GREGORIAN
METHOD:PUBLISH
X-ORIGINAL-URL:https://namura.cc
X-WR-CALDESC:クリエイティブセンター大阪（CCO） のイベント
REFRESH-INTERVAL;VALUE=DURATION:PT1H
X-Robots-Tag:noindex
X-PUBLISHED-TTL:PT1H
BEGIN:VTIMEZONE
TZID:Asia/Tokyo
BEGIN:STANDARD
TZOFFSETFROM:+0900
TZOFFSETTO:+0900
TZNAME:JST
DTSTART:20110101T000000
END:STANDARD
END:VTIMEZONE
BEGIN:VEVENT
DTSTART;VALUE=DATE:20110825
DTEND;VALUE=DATE:20110826
DTSTAMP:20260423T020326
CREATED:20230214T093448Z
LAST-MODIFIED:20230214T093458Z
UID:804-1314230400-1314316799@namura.cc
SUMMARY:SOUND SHOCK2011
DESCRIPTION:SOUND SHOCK2011 \n2009年に第一回が開催され、15大学の軽音団体を巻き込んだ関西最大級の大学合同ライブイベント「SOUND SHOCK」。年々成長を続けるこのイベントに今年は17もの大学が参加、3ステージ同時進行でライブを行うフェス形式でそれぞれの大学がコピー・オリジナル問わずパフォーマンスを繰り広げる。ライブの最後には学生バンドマンに注目されるアーティストがスペシャルゲストとして出演し会場の盛り上がりは最高潮に！ \n■日程：2011年8月25日（木）\n■場所：クリエイティブセンター大阪\n■主催：\n関西学院大学AVANTGARDE\n関西大学BANDITZ\n甲南大学軽音楽部AVANTGARED（関西学院大学軽音楽サークル）\n■協力：\nKOBE LIVEACT BAR VARIT\nBASS ON TOP\n■チケット (前売/当日）：未定\n■広報：宝塚大学T.U.K.C \n■ＨＰ：http://soundshock.web.fc2.com/TOP.html
URL:https://namura.cc/event/20110825/
ATTACH;FMTTYPE=:
END:VEVENT
END:VCALENDAR