BEGIN:VCALENDAR
VERSION:2.0
PRODID:-//クリエイティブセンター大阪（CCO） - ECPv6.2.1//NONSGML v1.0//EN
CALSCALE:GREGORIAN
METHOD:PUBLISH
X-ORIGINAL-URL:https://namura.cc
X-WR-CALDESC:クリエイティブセンター大阪（CCO） のイベント
REFRESH-INTERVAL;VALUE=DURATION:PT1H
X-Robots-Tag:noindex
X-PUBLISHED-TTL:PT1H
BEGIN:VTIMEZONE
TZID:Asia/Tokyo
BEGIN:STANDARD
TZOFFSETFROM:+0900
TZOFFSETTO:+0900
TZNAME:JST
DTSTART:20110101T000000
END:STANDARD
END:VTIMEZONE
BEGIN:VEVENT
DTSTART;VALUE=DATE:20110922
DTEND;VALUE=DATE:20110923
DTSTAMP:20260423T004442
CREATED:20230214T092824Z
LAST-MODIFIED:20230214T092836Z
UID:791-1316649600-1316735999@namura.cc
SUMMARY:ASIAN BREAKS 2nd ANNIVERSARY
DESCRIPTION:2011/09/22（木）祝前日\nOPEN 20:00? LAST \nDOOR：3500W1D ADV：3000W1D \n■\n・THE UPBEATS\n・GOTH-TRAD\n・SHINGO☆西成\n・Anchorsong(Tru Thoughts)\n・HIKARI CONNECTION\n・裸絵札\n・NUMB`N`DUB\n・DJ MASASHI\n・DJ SKEL\n・THE SHADOW TRIBE \n・VJ SALVADORWORKS (HINOMARUWORKS/MOSTWANTED/D.S.P) \n■RED FRAME\n・FULLMOON MONDO\n・DJ FUNNEL\n・罠\n・DJ KOM aka BIG CHIEF feat MC LEO&MC AOI\n・DJ YANMAH\n・ZZZ\n・LIGHT-ONE \n■LIVE PAINT\n・YSK & megu汰(A.A.M.M./OMNPATTY) \n■LIVE PHOTO\n・fil photograph\n・MSK8 \n■FOOD\n・DI酒屋\n・カレー専門店　サンド・サンド \n■SHOP\n・ASHANTie
URL:https://namura.cc/event/20110922/
ATTACH;FMTTYPE=image/jpeg:https://namura.cc/wp-content/uploads/2023/02/20110903-20110922_a2s.jpg
END:VEVENT
END:VCALENDAR