BEGIN:VCALENDAR
VERSION:2.0
PRODID:-//クリエイティブセンター大阪（CCO） - ECPv6.2.1//NONSGML v1.0//EN
CALSCALE:GREGORIAN
METHOD:PUBLISH
X-ORIGINAL-URL:https://namura.cc
X-WR-CALDESC:クリエイティブセンター大阪（CCO） のイベント
REFRESH-INTERVAL;VALUE=DURATION:PT1H
X-Robots-Tag:noindex
X-PUBLISHED-TTL:PT1H
BEGIN:VTIMEZONE
TZID:Asia/Tokyo
BEGIN:STANDARD
TZOFFSETFROM:+0900
TZOFFSETTO:+0900
TZNAME:JST
DTSTART:20110101T000000
END:STANDARD
END:VTIMEZONE
BEGIN:VEVENT
DTSTART;VALUE=DATE:20110923
DTEND;VALUE=DATE:20110924
DTSTAMP:20260423T004443
CREATED:20230214T092550Z
LAST-MODIFIED:20230214T092550Z
UID:778-1316736000-1316822399@namura.cc
SUMMARY:"NOON+CAFE"OPENING SPECIAL EVENT SKATERS NITE 6
DESCRIPTION:時間　15:00~22:00\n前売り　3500円　当日3800円 \nEGO-WRAPPIN’\nYOUR SONG IS GOOD\n眠眠眠　a.k.a neco眠る\nGOMA\nSAWAGI\n韻踏合組合\n日本の宇宙\nKING BROTHERS\nRISE FROM THE DEAD\nNAKATANI(CRACKER JACKS)\n高津直由　（ex DETERMINATIONS） \nTICKET INFORMATION\nチケットぴあ(P-CODE.145-884/0570-02-9999)\nローソンチケット(Lコード.59218/0570-084-005) \nINFORMATION\nNOON : 06-6373-4919
URL:https://namura.cc/event/20110923/
ATTACH;FMTTYPE=image/jpeg:https://namura.cc/wp-content/uploads/2023/02/20110917-923-4C.jpg
END:VEVENT
END:VCALENDAR