BEGIN:VCALENDAR
VERSION:2.0
PRODID:-//クリエイティブセンター大阪（CCO） - ECPv6.2.1//NONSGML v1.0//EN
CALSCALE:GREGORIAN
METHOD:PUBLISH
X-WR-CALNAME:クリエイティブセンター大阪（CCO）
X-ORIGINAL-URL:https://namura.cc
X-WR-CALDESC:クリエイティブセンター大阪（CCO） のイベント
REFRESH-INTERVAL;VALUE=DURATION:PT1H
X-Robots-Tag:noindex
X-PUBLISHED-TTL:PT1H
BEGIN:VTIMEZONE
TZID:Asia/Tokyo
BEGIN:STANDARD
TZOFFSETFROM:+0900
TZOFFSETTO:+0900
TZNAME:JST
DTSTART:20110101T000000
END:STANDARD
END:VTIMEZONE
BEGIN:VEVENT
DTSTART;VALUE=DATE:20111008
DTEND;VALUE=DATE:20111009
DTSTAMP:20260422T231459
CREATED:20230214T091626Z
LAST-MODIFIED:20230214T091626Z
UID:774-1318032000-1318118399@namura.cc
SUMMARY:THE STAR FESTIVAL presents DARREN EMERSON (DETONE) x DJ PHIL HARTNOLL (ORBITAL)
DESCRIPTION:■概要\n西日本最大のクラブダンスフェスティバルが9月に引き続き10月、11月と開催です。\nダンスミュージックシーンの重鎮Darren EmersonとOrbitalのPHIL HARTNOLLの夢の競演!!\n日本テクノシーンを象徴するKEN ISHII / TASAKA / Q’HEYも参戦するテクノフェスティバル!! \n■日時\n2011/10/08(SAT)@名村造船所跡地(STUDIO PARTITA&RED FRAME)\nOPEN 21:00 ADV:3000 DOOR:4000 \n■アーティスト\nDarren Emerson (Detone/Underworld/Underwater/from UK)\nPhil Hartnoll (ORBITAL) / KEN ISHII / DJ QHEY / DJ TASAKA /\nMONASHEE / DJ DONGURI / YUSAKU / SOU / RYOMA / 1TO\nLIVE:White white sisters \n■チケット\nローソンチケット　コード　0570-084-005 【通常】 Lコード：56309\nhttp://l-tike.com\nイープラス　 http://eplus.jp\nチケットぴあ　0570-02-9999 【通常】 Pコード：149-322　 http://pia.jp/t\n※購入方法により、チケット代以外の手数料が別途必要となります。また金額もそれぞれ異なりますので予めご了承ください。 \n■お問い合わせ\nYUMEBANCHI 06-6341-3525 / www.yumebanchi.jp \n【会場】クリエイティブセンター大阪　06-4702-7085
URL:https://namura.cc/event/20111008/
ATTACH;FMTTYPE=image/jpeg:https://namura.cc/wp-content/uploads/2023/02/20110920-DARREN-EMERSON.jpg
END:VEVENT
END:VCALENDAR