BEGIN:VCALENDAR
VERSION:2.0
PRODID:-//クリエイティブセンター大阪（CCO） - ECPv6.2.1//NONSGML v1.0//EN
CALSCALE:GREGORIAN
METHOD:PUBLISH
X-WR-CALNAME:クリエイティブセンター大阪（CCO）
X-ORIGINAL-URL:https://namura.cc
X-WR-CALDESC:クリエイティブセンター大阪（CCO） のイベント
REFRESH-INTERVAL;VALUE=DURATION:PT1H
X-Robots-Tag:noindex
X-PUBLISHED-TTL:PT1H
BEGIN:VTIMEZONE
TZID:Asia/Tokyo
BEGIN:STANDARD
TZOFFSETFROM:+0900
TZOFFSETTO:+0900
TZNAME:JST
DTSTART:20110101T000000
END:STANDARD
END:VTIMEZONE
BEGIN:VEVENT
DTSTART;VALUE=DATE:20111016
DTEND;VALUE=DATE:20111017
DTSTAMP:20260422T231458
CREATED:20230214T091100Z
LAST-MODIFIED:20230214T091111Z
UID:767-1318723200-1318809599@namura.cc
SUMMARY:『RUNNIN'』 LAB3 12th Anniversary
DESCRIPTION:[時間] open 14:00　start 14:30　close 22:00\n[料金] 前売 3\,000円　当日 3\,500円　＊別途1ドリンク代 500円 \n[お問合せ＆チケット取扱] ダンススクール スタジオLAB3 大阪\nTEL 06-6538-2057　http://www.studio-lab3.com\n[チケット取扱]\n・ダンススクール スタジオLAB3 神戸\nTEL 078-331-5585　http://www.dance-school-lab3.com\n・ダンススクール スタジオLAB3 西宮\nTEL 078-331-5585 (神戸スタジオ)　http://nishinomiya.dance-lab3.jp\n・チケットぴあ　TEL 0570-02-9999 (Pコード:150-409)\n・ローソンチケット　TEL 0570-084-005 (Lコード:57982)\n・CNプレイガイド　TEL 0570-08-9999\n・e＋　http://eplus.jp \n●会場での注意事項\n＊室内会場(STUDIO PARTITA)での撮影は一切禁止です。\n＊再入場は出来ません。 \n▼「RUNNIN’ 2011」特設ページ\n[WEB] http://www.studio-lab3.com/event/2011/runnin1016.html\n[MOBILE] http://dance-lab3.com/event/2011/runnin1016.html\n＊「RUNNIN’ 2011」のパンフレットはこちら\nhttp://www.studio-lab3.com/runnin2011/pamphlet.pdf \n■GUEST DANCER\nAsian Kung(CHEKE\, TAKENO\, TAMIYA) / EMIEMA(EMI\, EMA)\nGEMINI / GIDDAP＋CHU(MO’PARADISE)\nHouse! House!!(Toshiya\, Khaz\, Naoki\, Atsushi\, Chiaki\, K-C\, Tsukasa\, Kensaku\, Saoli\, Mah)\nMAV●Z / SAKURA / 1981
URL:https://namura.cc/event/20111016/
ATTACH;FMTTYPE=image/jpeg:https://namura.cc/wp-content/uploads/2023/02/20111004-runnin1016_po.jpg
END:VEVENT
END:VCALENDAR