BEGIN:VCALENDAR
VERSION:2.0
PRODID:-//クリエイティブセンター大阪（CCO） - ECPv6.2.1//NONSGML v1.0//EN
CALSCALE:GREGORIAN
METHOD:PUBLISH
X-ORIGINAL-URL:https://namura.cc
X-WR-CALDESC:クリエイティブセンター大阪（CCO） のイベント
REFRESH-INTERVAL;VALUE=DURATION:PT1H
X-Robots-Tag:noindex
X-PUBLISHED-TTL:PT1H
BEGIN:VTIMEZONE
TZID:Asia/Tokyo
BEGIN:STANDARD
TZOFFSETFROM:+0900
TZOFFSETTO:+0900
TZNAME:JST
DTSTART:20110101T000000
END:STANDARD
END:VTIMEZONE
BEGIN:VEVENT
DTSTART;VALUE=DATE:20111030
DTEND;VALUE=DATE:20111031
DTSTAMP:20260422T231532
CREATED:20230214T090802Z
LAST-MODIFIED:20230214T090802Z
UID:762-1319932800-1320019199@namura.cc
SUMMARY:NWC“太陽”FES featuring ASIA MUSIC FESTIVAL
DESCRIPTION:■NWC-FES INFO\n名村造船所跡地( http://www.namura.cc/partita.html )という屋内ブース、\n野外ブースを兼ね備えたロケーションで毎回1500人以上動員している関西が誇る\nイベント NWC-FES( http://nwc-fes.blogspot.com/ )\nお昼のNWC“太陽”FESは未成年も入場可能です!! \nハロウィン仮装コンテスト1位5万円!!\n【RIP SLYMEから3人 SU\,ILMARI\,FUMIYAが出演、そしてロサンゼルスからハリ\nウッドスター、STEVE AOKI(DIMMAK)が出演のデイイベント!!】 \n■DAY TIME 10/30(日) 12:00-22:00 \n■SPECIAL　GUEST LINE UP\nSTEVE AOKI(DIM MAK)\nILMARI (RIP SLYME)\nUSUS(RIP SLYME)\nDJ FUMIYA(RIP SLYME)\n2BOY \n■GUEST DJ\nJAXX DA FISHWORKS x Jamie Lee Wilson (Ministry of Sound)\nKO-MATSUSHIMA&ERICH LOGAN(EXCLUSIVE SET) \n■GUEST LIVE\nA MAD TEA PARTY\nTHE GAME SHOP\nVANDALISM \nNWC 外国人割引\n外国人の方は2500円で入場可能!!\n2500 yen(NO DRINK).FOR GAIKOKUJIN \nグループ割:￥2250(NO DRINK)\n※グループ割なら3枚分の前売りTICKET金額で4名入場できます。\n（前売りチケット販売店、プレイガイドでご購入していただけます。）\nADV:￥3000 (NO DRINK)\nDOOR:￥3500(NO DRINK)
URL:https://namura.cc/event/nwc%e5%a4%aa%e9%99%bdfes-featuring-asia-music-festival/
ATTACH;FMTTYPE=image/jpeg:https://namura.cc/wp-content/uploads/2023/02/20111006-1030nwc_banner978x350_RGB.jpg
END:VEVENT
END:VCALENDAR