BEGIN:VCALENDAR
VERSION:2.0
PRODID:-//クリエイティブセンター大阪（CCO） - ECPv6.2.1//NONSGML v1.0//EN
CALSCALE:GREGORIAN
METHOD:PUBLISH
X-ORIGINAL-URL:https://namura.cc
X-WR-CALDESC:クリエイティブセンター大阪（CCO） のイベント
REFRESH-INTERVAL;VALUE=DURATION:PT1H
X-Robots-Tag:noindex
X-PUBLISHED-TTL:PT1H
BEGIN:VTIMEZONE
TZID:Asia/Tokyo
BEGIN:STANDARD
TZOFFSETFROM:+0900
TZOFFSETTO:+0900
TZNAME:JST
DTSTART:20130101T000000
END:STANDARD
END:VTIMEZONE
BEGIN:VEVENT
DTSTART;VALUE=DATE:20130820
DTEND;VALUE=DATE:20130821
DTSTAMP:20260421T101228
CREATED:20230213T093339Z
LAST-MODIFIED:20230213T093339Z
UID:646-1376956800-1377043199@namura.cc
SUMMARY:SOUND SHOCK 2013
DESCRIPTION:関西の軽音団体を集めた関西で最大級の大学合同ライブイベント \n□日時\n2013年8月20日（火） \n■お問合せ\nSOUND SHOCK 2013
URL:https://namura.cc/event/20130820/
ATTACH;FMTTYPE=:
END:VEVENT
END:VCALENDAR