BEGIN:VCALENDAR
VERSION:2.0
PRODID:-//クリエイティブセンター大阪（CCO） - ECPv6.2.1//NONSGML v1.0//EN
CALSCALE:GREGORIAN
METHOD:PUBLISH
X-ORIGINAL-URL:https://namura.cc
X-WR-CALDESC:クリエイティブセンター大阪（CCO） のイベント
REFRESH-INTERVAL;VALUE=DURATION:PT1H
X-Robots-Tag:noindex
X-PUBLISHED-TTL:PT1H
BEGIN:VTIMEZONE
TZID:Asia/Tokyo
BEGIN:STANDARD
TZOFFSETFROM:+0900
TZOFFSETTO:+0900
TZNAME:JST
DTSTART:20130101T000000
END:STANDARD
END:VTIMEZONE
BEGIN:VEVENT
DTSTART;VALUE=DATE:20131102
DTEND;VALUE=DATE:20131104
DTSTAMP:20260421T044351
CREATED:20230213T090132Z
LAST-MODIFIED:20230213T090132Z
UID:619-1383350400-1383523199@namura.cc
SUMMARY:MUCC 2DAYS CIRCUIT 2013 "Hypnos & Thanatos"
DESCRIPTION:□日時\n2013年\n11月2日（土）\n11月3日（日・祝）\nOPEN 16:00\nSTART 17:00 \n□チケット\n\5\,800- Sold Out \n・入場時ドリンク代\500別途必要\n・オールスタンディング\n・入場整理番号付\n・クロークがございます（有料）\n※未就学児入場不可。\n※営利目的の転売禁止。 \n□お問合せ\nキョードーインフォメーション 06-7732-8888\nhttp://www.kyodo-osaka.co.jp/schedule/E011258-1.html
URL:https://namura.cc/event/20131102-03/
ATTACH;FMTTYPE=:
END:VEVENT
END:VCALENDAR