BEGIN:VCALENDAR
VERSION:2.0
PRODID:-//クリエイティブセンター大阪（CCO） - ECPv6.2.1//NONSGML v1.0//EN
CALSCALE:GREGORIAN
METHOD:PUBLISH
X-ORIGINAL-URL:https://namura.cc
X-WR-CALDESC:クリエイティブセンター大阪（CCO） のイベント
REFRESH-INTERVAL;VALUE=DURATION:PT1H
X-Robots-Tag:noindex
X-PUBLISHED-TTL:PT1H
BEGIN:VTIMEZONE
TZID:Asia/Tokyo
BEGIN:STANDARD
TZOFFSETFROM:+0900
TZOFFSETTO:+0900
TZNAME:JST
DTSTART:20130101T000000
END:STANDARD
END:VTIMEZONE
BEGIN:VEVENT
DTSTART;VALUE=DATE:20131201
DTEND;VALUE=DATE:20131202
DTSTAMP:20260421T044352
CREATED:20230213T084301Z
LAST-MODIFIED:20230213T084301Z
UID:598-1385856000-1385942399@namura.cc
SUMMARY:みるくらりあっとvol.6 ~続・moe distraction~
DESCRIPTION:□日時\n2013年12月1日(日)\n13:30開場／14:30開演 \n□チケット\n5900円(税込)当日ドリンク代別途\nオールスタンディング \n□お問合せ\nみるくらりあっとvol.6 \n□主催\nmilk record （AATIT.INC.)
URL:https://namura.cc/event/20131201/
ATTACH;FMTTYPE=image/jpeg:https://namura.cc/wp-content/uploads/2023/02/20131123-milkvol.6.jpg
END:VEVENT
END:VCALENDAR