BEGIN:VCALENDAR
VERSION:2.0
PRODID:-//クリエイティブセンター大阪（CCO） - ECPv6.2.1//NONSGML v1.0//EN
CALSCALE:GREGORIAN
METHOD:PUBLISH
X-ORIGINAL-URL:https://namura.cc
X-WR-CALDESC:クリエイティブセンター大阪（CCO） のイベント
REFRESH-INTERVAL;VALUE=DURATION:PT1H
X-Robots-Tag:noindex
X-PUBLISHED-TTL:PT1H
BEGIN:VTIMEZONE
TZID:Asia/Tokyo
BEGIN:STANDARD
TZOFFSETFROM:+0900
TZOFFSETTO:+0900
TZNAME:JST
DTSTART:20150101T000000
END:STANDARD
END:VTIMEZONE
BEGIN:VEVENT
DTSTART;VALUE=DATE:20150502
DTEND;VALUE=DATE:20150503
DTSTAMP:20260419T214510
CREATED:20230308T090245Z
LAST-MODIFIED:20230308T090245Z
UID:1594-1430524800-1430611199@namura.cc
SUMMARY:DaizyStripper vs FEST VAINQUEUR ツーマンライブ「兄弟喧嘩」
DESCRIPTION:■日時：\n2015年5月2日(土)\n開場/開演 16:00/17:00 \n■チケット料金：\n前売¥4\,500- 当日¥5\,000- （税込・オールスタンディング ）\n※入場時ドリンク代別途必要 \n■お問い合せ\n夢番地　06-6341-3525 \n詳しくは\nhttp://daizystripper.com\nhttps://www.festvainqueur.com
URL:https://namura.cc/event/2015-05-02/
ATTACH;FMTTYPE=image/jpeg:https://namura.cc/wp-content/uploads/2023/03/20150423-kenka_flyer.jpg
END:VEVENT
END:VCALENDAR