BEGIN:VCALENDAR
VERSION:2.0
PRODID:-//クリエイティブセンター大阪（CCO） - ECPv6.2.1//NONSGML v1.0//EN
CALSCALE:GREGORIAN
METHOD:PUBLISH
X-WR-CALNAME:クリエイティブセンター大阪（CCO）
X-ORIGINAL-URL:https://namura.cc
X-WR-CALDESC:クリエイティブセンター大阪（CCO） のイベント
REFRESH-INTERVAL;VALUE=DURATION:PT1H
X-Robots-Tag:noindex
X-PUBLISHED-TTL:PT1H
BEGIN:VTIMEZONE
TZID:Asia/Tokyo
BEGIN:STANDARD
TZOFFSETFROM:+0900
TZOFFSETTO:+0900
TZNAME:JST
DTSTART:20080101T000000
END:STANDARD
END:VTIMEZONE
BEGIN:VEVENT
DTSTART;VALUE=DATE:20080315
DTEND;VALUE=DATE:20080316
DTSTAMP:20260426T125701
CREATED:20230217T102505Z
LAST-MODIFIED:20230217T102519Z
UID:1400-1205539200-1205625599@namura.cc
SUMMARY:Fixx 5th Anniversary & Yabai Records Abomination Release Party
DESCRIPTION:YABAI RECORDS Presents\n『 Fixx 5th Anniversary & Yabai Records Abomination Release Party 』\n2008/3/15[Sat]\nOPEN 23:00\nCLOSE 10:00\nADV 5\,000yen\nDOOR 6\,500yen\n1ドリンク別途 500yen LIVE ACT\nAbomination -2nd Album Release Special Live set- (Yabai Records / 3d vision from Israel)\nPerplex FinePlay Records / Spun Records from Ibiza\nLost & Found Yabai Records / 3d vision from South Africa\n220V Phantasm Records from Brazil\nMondo Full Moon Records / New World from Japan\nB-55 Yabai Records / Shanbrah from Japan\nDJ SET\nX-Self Koki / Triple-X / Phantasm Records & Take / Fixx\nTarrU God Bless / Back Alley Production\nManabu & Sow Spell Bound\nYuji Yabai Records / Fixx\nH4LK Yabai Records / HOLOgram\nKi-chi Fixx / Gear \nDECORATION\nSEIKOU & NESHAMASHELI GOD BRESS\nLASER\nSPACE HAZE\nVJ\nBANANA PEELER YABAI REC.\nSOUND\nMMU \nTICKET: \n全国 / All Japan\nLAWSON : 0570-084-003 〔Lコード / 58769]\n近畿地方 / Kansai Area\nCISCO (Osaka) : 06-6252-9821\nKoo (Osaka) : 06-6241-5196\nExodus (Osaka) : 06-6532-9385\nPsybar Hanabi (Kobe) : 078-331-2661\nGypshiba (Himeji) : 0792-24-9205\n中部地方 / Cyubu Area\nJuice (Nagoya) : 052-954-8465 \nINFO:\nhttp://www.881-rec.com/
URL:https://namura.cc/event/20080315/
ATTACH;FMTTYPE=image/jpeg:https://namura.cc/wp-content/uploads/2023/02/20080219-080315.jpg
END:VEVENT
BEGIN:VEVENT
DTSTART;VALUE=DATE:20080316
DTEND;VALUE=DATE:20080317
DTSTAMP:20260426T125701
CREATED:20230217T101613Z
LAST-MODIFIED:20230217T101626Z
UID:1398-1205625600-1205711999@namura.cc
SUMMARY:Mega de Live
DESCRIPTION:『 Mega de Live -メガ・ド・ライブ- 』\n2008/3/16[SUN]\nOPEN 14:30\nSTART 15:30\nADV 1000Yen\nDOORS 1000Yen\n1ドリンク別途 500Yen\n出演：\nアダーコレクション\n鈴木康弘\nインティファーダ\n伊能努\nthe カウパーズ\n中西弘明\nTeeny-BoppeR\n山下春輝\n悪魔神官 \n問合せ：\n090-4271-7004（コスミ）
URL:https://namura.cc/event/20080316/
ATTACH;FMTTYPE=:
END:VEVENT
BEGIN:VEVENT
DTSTART;VALUE=DATE:20080322
DTEND;VALUE=DATE:20080323
DTSTAMP:20260426T125701
CREATED:20230217T101504Z
LAST-MODIFIED:20230217T101515Z
UID:1396-1206144000-1206230399@namura.cc
SUMMARY:DOUBLE TROULBLE TWINSTAR
DESCRIPTION:T.P.E. PRESENTS\n『DOUBLE TROULBLE TWINSTAR』\n2008/3/22[SAT]\nOPEN 22:00\nADV 5000Yen\nDOOR 6000Yen\n1ドリンク別途 500Yen LIVE SET:\nELECTRO SUN\n(TRANCELUSENT/NOGA/ISR)\nGATAKA\n(NOGA RECORDS/ISR)\nVIBE TRIBE\n(UTOPIA RECORDS/NOGA/ISR)\nZIKI\n(NOGA RECORDS/ISR) \nDJ SET:\nGATAKA\n(NOGA RECORDS/ISR)\nZIKI\n(NOGA RECORDS/ISR)\n1000DAEM\n(FANXS MUSIC/NOGA/JP)\nMCKEE\n(FANXS MUSIC/JP)\nCHABO&P’N’O\n(T.P.E.RECORDS/JP) \nVJ:\nM.M.DELIGHT \nDECORATION:\nKC\nZOO脳 \nLIGHTING:\nARTIKAL \nSOUND:\nTRY AUDIO \nTICKETS AVAILABLE AT:\n(ALL JAPAN /全国)\nLawson Ticket: 0570-084-005(L-code:59342)\n(ONLINE SHOP)\nTechno.to ( http://www.techno.to ) \nTOTAL INFORMAITION\nTEL: 042-707-8315\nMAIL: info@tpe-records.com\nhttp://www.tpe-records.com\nhttp://www.tpe-records.com/i \nTIME TABLE:\n22:00~24:30_CHABO&P’N’O(DJ)\n24:30~02:00_MCKEE(DJ)\n02:00~03:00_GATAKA(LIVE)\n03:00~04:00_ZIKI(LIVE)\n04:00~05:00_VIBE TRIBE(LIVE)\n05:00~06:00_ELECTRO SUN(LIVE)\n06:00~07:00_ZIKI (DJ)\n07:00~08:00_GATAKA(DJ)
URL:https://namura.cc/event/20080322/
ATTACH;FMTTYPE=:
END:VEVENT
BEGIN:VEVENT
DTSTART;VALUE=DATE:20080329
DTEND;VALUE=DATE:20080330
DTSTAMP:20260426T125701
CREATED:20230217T101411Z
LAST-MODIFIED:20230217T101422Z
UID:1393-1206748800-1206835199@namura.cc
SUMMARY:剛火 feat. The Carnival
DESCRIPTION:FOCUS興業 Presents\nHIPHOP LIVE BATTLE 予選大会\n『 剛火 feat. The Carnival 』\n2008/3/29[SAT]\nOPEN 20:00\nCLOSE 5:00\nBATTLE ENTRY 2\,000Yen\nADV 2\,000Yen\nDOOR 2\,500Yen\n1ドリンク別途\n※決勝大会は、5/3 STUDIO PARTITA にて開催！ 優勝賞金 10万円、総勢32組からなるトーナメント方式のライブショーバトルを開催決定！ \n1対1でライブを行い、オーディエンスのジャッジで勝敗を決定します。\nトーナメント形式でベスト4に残った組は、本選の 5/3 CARNIVAL ＠STUDIO PARTITA にて勝者を決定します。\n予選1回戦・2回戦のライブ時間は各々3分、準々決勝は5分となり、時間が来るとマスターの音を止めさせてもらいます。 \n★先行エントリー（先着32組）\n心無い者の悪戯による架空エントリーを避けるため、\n・代表者氏名と現住所\n・MC名 および 所属名\n・連絡先番号\nを必ず明記のうえ、メールを送信して下さい。\nエントリーは携帯からでも可能です。\nなお、本人確認の電話が来ますので、本人確認が取れた場合に限り、初めてエントリー成立となります。\n先着32組限定のため、定員オーバーの場合はご了承願います。 \nエントリー受付：\nMAIL thecarnival08_battle_entry@yahoo.co.jp\nTEL 06-6561-1877 (14:00-20:00) \n★当日エントリー\n先着32組限定のため、当日までに先行エントリーが受付終了となる場合は、当日エントリーは受け付けられません。ご了承下さい。\n当日エントリー受付の場合は、当日 19:00 より会場入口にて受付となります。 \n— \nGUEST:\nJAZZY BLAZE / DJ URATA \nLIVE:\nA・Q・A / FALCO&SHINO\nBIG DADDY / E-Rhymer\nDuel Da Koffee / SHOWRIN\nNEVA-D / YO-G / 牛魔\nILL CEE / INARI\nK-Rexx \nDJ:\nWEST / COSSI \nHOST:\nMACKO / MAINTAIN \nVJ:\nzilow kurume \nINFO:\nFOCUS興業\nhttp://www.focus-k.com\ninfo@focus-k.com\n06-4392-0040 (KAMI\,14:00-20:00)
URL:https://namura.cc/event/20080329/
ATTACH;FMTTYPE=image/jpeg:https://namura.cc/wp-content/uploads/2023/02/20080306-20080329.jpg
END:VEVENT
BEGIN:VEVENT
DTSTART;VALUE=DATE:20080330
DTEND;VALUE=DATE:20080331
DTSTAMP:20260426T125701
CREATED:20230217T101226Z
LAST-MODIFIED:20230217T101236Z
UID:1390-1206835200-1206921599@namura.cc
SUMMARY:ジェンベ“打”サミット関西-其の壱-
DESCRIPTION:『ジェンベ“打”サミット関西?其の壱?』\n2008/3/30[SUN]\nOPEN 15:00\nSTART 16:00\nADV 2800Yen\nDOOR 3300Yen\n1ドリンク別 500Yen \nＡＲＴＩＳＴ\n●Ｋ．Ｇ．Ｃ\n●ＨａｍａｎａＨ\n●ｎａｇｅｒ　ｌａ　ｂｒａｓｓｅ\nＧＵＥＳＴ：Ｎ’ＴＡＮＧＡ　ｗｉｔｈ　ギリギリ★マンディング \nＴＩＣＫＥＴ　ＩＮＦＯＲＭＡＴＩＯＮ\n＜専用予約フォーム＞\nhttp://www.theater-reservation.com/ticket1/ticket_reservation.cgi?id=20080330janb&c=1 \n＜販売店＞\n神戸メットリー\nTEL　078-241-1307 \n京都コイズミ楽器\nTEL：075-231-3052 \n大阪タムタムカンパニー\nTEL：06-6241-5717 \n心斎橋 若松\nTEL：06-6245-5150 \n＜プレイガイド＞\nチケットぴあ　：　[Pコード：284-877] TEL：0570-02-9999\nローソンチケット　：　[Lコード：59147] TEL：0570-000-777 \n＜お問い合わせ＞\n「ダサミ企画」　代表：藤井　よお\nTEL 090-1587-2622\nMAIL dasami@hotmail.co.jp\nWEB http://www.dasami.jp
URL:https://namura.cc/event/20080330/
ATTACH;FMTTYPE=:
END:VEVENT
END:VCALENDAR