BEGIN:VCALENDAR
VERSION:2.0
PRODID:-//クリエイティブセンター大阪（CCO） - ECPv6.2.1//NONSGML v1.0//EN
CALSCALE:GREGORIAN
METHOD:PUBLISH
X-ORIGINAL-URL:https://namura.cc
X-WR-CALDESC:クリエイティブセンター大阪（CCO） のイベント
REFRESH-INTERVAL;VALUE=DURATION:PT1H
X-Robots-Tag:noindex
X-PUBLISHED-TTL:PT1H
BEGIN:VTIMEZONE
TZID:Asia/Tokyo
BEGIN:STANDARD
TZOFFSETFROM:+0900
TZOFFSETTO:+0900
TZNAME:JST
DTSTART:20080101T000000
END:STANDARD
END:VTIMEZONE
BEGIN:VEVENT
DTSTART;VALUE=DATE:20080405
DTEND;VALUE=DATE:20080406
DTSTAMP:20260426T112407
CREATED:20230217T101108Z
LAST-MODIFIED:20230217T101119Z
UID:1386-1207353600-1207439999@namura.cc
SUMMARY:GET TO THE POINT
DESCRIPTION:KINGJAM Presents\n『 GET TO THE POINT 』\n2008/4/5[Sat]\nOPEN 22:00\nADV 3\,000yen\nDOOR 3\,000yen\n1ドリンク別途 500yen \n★★★SOLD OUT★★★\n前売券完売につき、当日券の販売はございません！\nご了承下さい。 出演アーティスト\nRYO THE SKYWALKER\nTAKAFIN\nNG HEAD\nAFRA\nPETER MAN\nVADER\nARM STRONG\nAKANE\n55LEVEL\nNATURAL WEAPON \nサウンド\nBURN DOWN\nARSENAL JAPAN\nRODEM CYCLONE\nKING JAM \nEARLY WARM\nLITTLE SOLDIER \nSOUND SYSTEM\nBLAZING DOG \nTICKET：発売中\nチケットぴあ　0570-02-9999（Pコード　284-178）\nローソンチケット 0570-084-005（Lコード 58751）\ne＋ http://eplus.jp \n★Agitation   06-6245-2800\n★Walkin` Store  06-4390-2009\n★Overhaul   075-254-8577\n★Proclam   06-6251-7415\n★Dissident  06-6211-7879\n★Low Loud  072-445-5567\n★Rockers Island  06-6537-6233\n★Five Star  06-6538-9001\n★Kette  075-211-0296\n★Overpread  06-6543-5677 \nINFO：\nKINGJAM\nhttp://www.kingjam.com/\ninfo@kingjam.com
URL:https://namura.cc/event/20080405/
ATTACH;FMTTYPE=image/jpeg:https://namura.cc/wp-content/uploads/2023/02/20080223-20080405.jpg
END:VEVENT
END:VCALENDAR