BEGIN:VCALENDAR
VERSION:2.0
PRODID:-//クリエイティブセンター大阪（CCO） - ECPv6.2.1//NONSGML v1.0//EN
CALSCALE:GREGORIAN
METHOD:PUBLISH
X-ORIGINAL-URL:https://namura.cc
X-WR-CALDESC:クリエイティブセンター大阪（CCO） のイベント
REFRESH-INTERVAL;VALUE=DURATION:PT1H
X-Robots-Tag:noindex
X-PUBLISHED-TTL:PT1H
BEGIN:VTIMEZONE
TZID:Asia/Tokyo
BEGIN:STANDARD
TZOFFSETFROM:+0900
TZOFFSETTO:+0900
TZNAME:JST
DTSTART:20080101T000000
END:STANDARD
END:VTIMEZONE
BEGIN:VEVENT
DTSTART;VALUE=DATE:20081101
DTEND;VALUE=DATE:20081102
DTSTAMP:20260426T003304
CREATED:20230215T111633Z
LAST-MODIFIED:20230215T111644Z
UID:1313-1225497600-1225583999@namura.cc
SUMMARY:oomph! vol.3
DESCRIPTION:oomph![umf= ウンフ] vol.3\nGlitter Prize “Glitter Butch & Queen Contest” \n2008年11月01日 (土)\nOPEN 22:00\nCLOSE 5:00\n-Gay Men Only- \nAdm:3500Y (with 1Drink)\nMixi コミュ割 →500yen Off!\nMIXI： http://mixi.jp/view_community.pl?id=3088564\nGuest DJ>>>\nTUTTLE\nDJ>>>\nCHU*/SHINTARO/TAL\nDRAG QUEENS>>>\nNADJA GRANDIVA/MADAME COCO/DIANA EXTRAVAGANZA/ELECTRA RAYGUN/MISS MARIA/AI FU-YONG\nGOGO BOY>>>\nMASA/TAKU/HIDE/IZZA/IKU/KYOSK\nDACER>>>\nTOSSI/REDD/KENGO\nMC>>>\nSAMANTHA ANANSA \nGLITTER PRIZE glitter butch & queen contest>>>\nハロウィーンの翌夜、oomph!では趣を変えた仮装コンテストを開催します！\n「グリッタープライズ!」。\nグリッターとは｢キラキラ｣「煌き」「輝き」…といった意。\n文字通りキラキラ煌くコスチュームとパフォーマンスでグランプリを目指すっていうものです。\nDQ\,GOGOは勿論それ以外もありありノンスタイル仮装コンテスト！\nあなた自身のスタイルで参加してください。\nグランプリは、なんとニューヨーク旅行券！（その他副賞あり）\n選考方法：一般投票（1投票1点）審査員投票（1投票10点）の合計点で選考します。\n審査員：ナジャ・ココ・ダイアナ・レーガン・マサ・イザ・タク・ヒデetc\nエントリー：予めエントリー頂ければ、優待料金（2000円 with 1D)でご入場頂けます。ミクシ又はメールinfo@oomph.jpより下記を記入してエントリーしてください。\n・お名前（ニックネーム/ハンドルネーム/通名可）\n・エントリーネーム（仮装コンテストでの紹介する名前です。）\n・コメント/テーマ等（出来る限りご記入下さい。）\n※グループ参加可（副賞は個人対象です。）\n※フィッティングもご用意しておりますので、会場で準備可能です。\n※エントリーなしの当日参加も勿論可能です。仮装の上お出で頂きエントランススタッフが仮装と見なした場合は優待料金とします。控室での準備がご希望の方は必ずエントリーしてください。私服で優待入場はできません。 \nSHUTTLE BUS>>>\nCLUB LIMOUSINE梅田から会場までシャトルバスを随時運行しております。\n梅田[サウナ大東洋前]発　21:50/22:20/23:00/0:20/0:40/1:20/1:50/2:30\nBLACK CHAMBER発　　0:05/0:45/1:15/1:55/2:30/3:15/3:45/4:30/5:00\n※道路事情により遅延する場合があります。\n※停留所では近隣の迷惑にならぬよう先着順に並んでお待ち下さい。\n※定員オーバーによりご利用頂けない場合があります。出来るだけ混み合わない時間のバスをご利用下さい。\n※バス内での違法・迷惑行為を発見した場合、運行会社の規約上途中下車して頂きますので、予めご了承下さい。 \nINFO>>>\nhttp://www.oomph.jp/\nhttp://myspace.com/club_oomph\nE-mail:info@oomph.jp
URL:https://namura.cc/event/20081101/
ATTACH;FMTTYPE=image/jpeg:https://namura.cc/wp-content/uploads/2023/02/20081101-20081101.jpg
END:VEVENT
BEGIN:VEVENT
DTSTART;VALUE=DATE:20081108
DTEND;VALUE=DATE:20081109
DTSTAMP:20260426T003304
CREATED:20230215T111319Z
LAST-MODIFIED:20230215T111322Z
UID:1309-1226102400-1226188799@namura.cc
SUMMARY:ＮＥＷ　ＷＯＲＬＤ　ＯＲＤＥＲ
DESCRIPTION:2008/１１/８(土) in 名村造船所 STUDIO PARTITA \n22:00-allnight \nDoor/3000yen\nADV/2500yen\nWITH FLYER/2500yen\n１１月８日(土)\n★フリースタイルＰＡＲＴＹ★\n【ＮＥＷ　ＷＯＲＬＤ　ＯＲＥＤＥＲ】in　名村造船所 STUDIO PARTITA \nイベントＨＰ\nhttp://n-e-w-w-o-r-l-d-o-r-d-e-r.com/\nＭＹ ＳＰＡＣＥ\nhttp://www.myspace.com/0newworldorder0\nコミュニティ\nhttp://mixi.jp/view_community.pl?id=3769655 \n今回は沖縄のテクノビーチＰＡＲＴＹ \n『ＤＥＮＫＩＲＯＫ』\nhttp://mixi.jp/view_community.pl?id=182786 \nの主催者でもあり去年2007年は日本最大級テクノＰＡＲＴＹ \n『ＷＩＲＥ０７』にも出演し \n沖縄テクノ界を創ってきたと言っても過言ではないＤＪ。 \nＤＪ ＤＡＩＣＨＩ(ＤＥＮＫＩＲＯＫ) \nなどなどその他盛り沢山☆ \n必見・必聴・必感の価値アリです★ \n＝ＮＥＷ　ＷＯＲＬＤ　ＯＲＤＥＲ＝\n１１/８(土) in 名村造船所 STUDIO PARTITA \n22:00-allnight \nDoor/3000yen\nADV/2500yen\nWITH FLYER/2500yen \n『ＰＡＲＴＩＴＡ　ＳＴＡＧＥ』 \n■ＤＪ\n・ＤＡＩＣＨＩ(ＤＥＮＫＩＲＯＫ)\nhttp://mixi.jp/view_community.pl?id=3762761 \n・ＫＩ６ \n・ＫＥＮＺＩ(ＢＬＡＣＫ　ＢＥＡＴＺ　ＢＯＸ)＆一鉄 a.k.a ＩＬＬＵＧＵＮ\nhttp://mixi.jp/view_community.pl?id=605166 \nhttp://mixi.jp/view_community.pl?id=2966957 \n・ＪＵＳＥ（Ａ　ＳＣＯＲＥ　ＤＩＳＣＯ）\nhttp://mixi.jp/view_community.pl?id=1734666 \n・Ｑ(ＦＡＮＣＹ　ＰＲＩＯＤ)\nhttp://mixi.jp/view_community.pl?id=3240643 \n■ＬＩＶＥ\n・Ｇｎｚ ｗｏｒｄ\nhttp://mixi.jp/view_community.pl?id=745943 \n・裸絵札akaヌードトランプ\nhttp://mixi.jp/view_community.pl?id=1212313 \n・ＥＥＲＥＣＴＩＯＮＮ\nhttp://mixi.jp/view_community.pl?id=3568276 \n・ＥＲＩＣ　ＭＡＮＤＡＬＡ＆ＴＨＥ　ＴＲＩＢＥ\nhttp://mixi.jp/view_community.pl?id=240364 \n『ＡＳＴ　ＳＴＡＧＥ』 \n■ＤＪ\n・ＧＲＯＵＮＤ \n・ＴＯＳＳＹ \n■ＬＩＶＥ\n・ＡＰＰＬＥ　ＢＥＡＴ　ＢＯＸ \n・へそ \n・はい兄弟(ＡＣＯＵＳＴＩＣ　ＳＥＴ)\nhttp://mixi.jp/view_community.pl?id=1797791 \n・ＨＡＰＰＹ　ＳＡＤ　ＣＯＲＥ \n・ＮＵＭＢ‘Ｎ’ＤＵＢ \n・ＯＲ \n・ＰＨＯＣＳＹ(ａｋａＢＡＮＡ／ＭＥＴＨＯＤ) \n『空間ＤＥＳＩＧＮ』 \n■ＶＪ\n・ｍｏａｉｒｏｑ \n■ＳＴＡＧＥ　ＱＵＥＥＮ\n・＋ｍａｒｉｏｎｅｔｔｅ＋\nhttp://mixi.jp/view_community.pl?id=3644954 \n■ＬＩＶＥ　ＰＡＩＮＴ\n・八木扶実(大正ＰＥＲＯＲＩ/ＯＭＮＰＡＴＴＹ)\n・ＹＳＫ(ＯＭＮＰＡＴＴＹ)\nhttp://mixi.jp/view_community.pl?id=3682916 \n■ＳＰＡＣＥ　ＤＥＳＩＧＮ\n・ｍ◎ｍ◎ \n■出店\n・パラ茶蔓 \n＜チケット取扱い＞\n(Ｐ)ＰＵＬＰＵＮＴＥ / ＳＣ　ＷＯＲＬＤ / ＢＭ　ＲＥＣＯＲＤＳ\n/ 甘茶蔓 / ｐａｒａｍｐａｒａ / 大正ＰＥＲＯＲＩ \n・(Ｐ)ＰＵＬＰＵＮＴＥ\n〒550-0015\n大阪市西区南堀江1-21-9\nアクセスサカイ203\nTEL : 050-3107-1666\nMAIL : palpunte80@yahoo.co.jp\nHP : http://www.palpunte.com/ \n・ＳＣ　ＷＯＲＬＤ\n〒542-0083\n大阪市中央区東心斎橋1-8-24 YONEYAMA BLD.2F\nHP : http://scworld.info/\nMOBILE : http://scworld.shop-pro.jp/\nOFFICIAL BLOG : http://scworld.livedoor.biz/ \n前売りチケットご希望の方は、\n06-6245-1728 or info@scworld.info\nまでご連絡ください。 \n・ＢＭ　ＲＥＣＯＲＤＳ\n〒542-0086\n大阪府大阪市中央区西心斎橋2-17-9\nダウンタウンビル4F/5F\nTEL/FAX：06-6212-5727\nMAIL：info@bmrecords.jp\nHOMEPAGE：http://www.bmrecords.jp/ \n・甘茶蔓\n大阪市生野区生野西2-7-29\nTEL：06-6715-5670\nHP：http://amachazyru.net \n・ｐａｒａｍｐａｒａ\n大阪市東心斎橋1?13?12　宝ビル3F\nTEL : 06-6281-2480\nコミュニティ\nhttp://mixi.jp/view_community.pl?id=2795425\nblog\nhttp://parampara.jugem.jp/ \n・大正ＰＥＲＯＲＩ\n大阪府大阪市大正区三軒屋東1丁目13-7 \n☆総合お問い合わせ（New world order実行委員会)\nTEL : 06-6774-4200\nMail : upset@n-e-w-w-o-r-l-d-o-r-d-e-r.com
URL:https://namura.cc/event/20081108/
ATTACH;FMTTYPE=image/jpeg:https://namura.cc/wp-content/uploads/2023/02/20081026-CA3S9P6X.jpg
END:VEVENT
BEGIN:VEVENT
DTSTART;VALUE=DATE:20081109
DTEND;VALUE=DATE:20081110
DTSTAMP:20260426T003304
CREATED:20230215T111126Z
LAST-MODIFIED:20230215T111131Z
UID:1307-1226188800-1226275199@namura.cc
SUMMARY:「FREE TIBET\,FREE PEOPLE!」 フリーチベットフリーピープルチャリティーコンサート！
DESCRIPTION:「FREE TIBET\,FREE PEOPLE!」\nフリーチベットフリーピープルチャリティーコンサート！\n■２００８年１１月９日（日）\n■大阪名村造船所跡地　STUDIO PARTITA\n■OPEN１２：００ START１３：００\n■前売３０００円　当日４０００円　１ドリンク５００円\nPコード：305-200 \nhttp://ip.tosp.co.jp/i.asp?I=freeeeeeeeeeetibet 『ＦＲＥＥ ＴＩＢＥＴ，ＦＲＥＥ ＰＥＯＰＬＥ』とは？？\n…とは？と言っても、まずはみんなに音楽を思いっきり楽しんでもらうのが目的。\nでなきゃ意味がない。\nこのイベントは、人間の人間による人間の為の祭です。\n人間は色んな矛盾と問題を抱えてしまっている、という現実があるけど、祭りはそれを浄化する作用がある。\nだけども、やっぱりどうしても浄化しきれない矛盾や問題もあったりする。\nそれは決して忘れてはいけない事だと思う。\nそれがこのイベントのタイトルにもなっている、チベット問題。\nだけどこのイベントは政治的な主張を行うのが目的ではない。\n人間が持つべき自由、権利、尊厳、生命、そういった事をこのイベントを通じて感じ、考えるきっかけになればいいな、と思う。\nそしてそれが自分個人の中で完結せず、自分以外の人間や、それ以外のものや事についても感じ、考えれるように、と願っています。\nそれは、難しい事じゃあない。\nちょっと想像力を広げてみるだけの話。\nその想像力がどこまでも広がって、それが動物や虫や海や空や山、この地上に存在する全てのものへの祝福へと繋がっていけば、素晴らしい！\nまずは楽しもうぜ！\nそして、想像力を広げてみようぜ！\nそのほんの些細な思いや、ほんの些細なアクションが、想像してた以上のメッセージになって、想像もできない位に遠くにいる多くの人々を、励ましたり、助けたりする事になったりするんだぜ。\nそして、みんながこのイベントを楽しむ為に払ってくれたお金は、今現在、苦しんでいる人々への援助となるよう、しかるべき所へ寄付（近日発表）します。 \nサンクス！！ \n■出演■\n曽我部恵一BAND\nあふりらんぽ\nDODDODO\nANATAKIKOU\n青森最後の詩人ひろやー\njew’s-ear\nha-gakure\nアウトドアホームレス\nワッツーシゾンビ \n&MORE &MORE・・・！！
URL:https://namura.cc/event/20081109/
ATTACH;FMTTYPE=image/jpeg:https://namura.cc/wp-content/uploads/2023/02/20081008-29_1_NK623VPEWG.jpg
END:VEVENT
BEGIN:VEVENT
DTSTART;VALUE=DATE:20081129
DTEND;VALUE=DATE:20081130
DTSTAMP:20260426T003304
CREATED:20230215T110556Z
LAST-MODIFIED:20230215T114339Z
UID:1300-1227916800-1228003199@namura.cc
SUMMARY:大虹ロックフェスティバル Vol.1-みるくらりあっと-
DESCRIPTION:開催日時：2008年11月29日\n開催時間：OPEN 14:30 START 15:00 CLOSE 21:30\nチケット：前売　3\,500円（別途ドリンク代500円が必要）\n当日　4\,000円（同上）\n主催：milk record（AATIT\,Inc.×NIJIROCK）\n協力：株式会社ブシロード 有限会社サーカス　 出演者一覧（順不同）： \n桃井はるこ／Lia／yozuca*／CooRie／稲村優奈／若林直美／長谷川明子／miru(Cy-Rim rev.)／加瀬愛奈／\nブシロード木谷社長／tororo団長／長島☆自演乙☆雄一郎　and more \n【イベント企画】\nサタデーナイト・メインイベント スペシャル in OSAKA（出演：稲村優奈・ブシロード木谷社長・長島☆自演乙☆雄一郎）【提供：株式会社ブシロード】\nサーカススペシャルライブ（出演：yozuca*・CooRie・miru(Cy-Rim rev.)・加瀬愛奈・tororo団長）【提供：有限会社サーカス】 \n【チケット販売】 \nとらのあな【秋葉原店】【なんば店】【梅田店】【三宮店】\nアニメイト【日本橋】【天王寺】【京橋店】【三宮店】【京都店】\nLovepop Studio【大阪店】\n※その他、チケット販売店舗・随時更新！ \n【注意事項】\n会場外での徹夜行為等は、会場及び近隣のご迷惑になりますので、禁止とさせ ていただきます。 \n【お問い合わせ】\nああとあいてぃ株式会社\nsupport@milkrecord.jp\n06-6641-6646 （11:00?17:00／定休日:水曜日・土日祝日）\nhttp://www.aatit.com/
URL:https://namura.cc/event/20081129/
ATTACH;FMTTYPE=image/jpeg:https://namura.cc/wp-content/uploads/2023/02/20081123-081129_01.jpg
END:VEVENT
END:VCALENDAR