BEGIN:VCALENDAR
VERSION:2.0
PRODID:-//クリエイティブセンター大阪（CCO） - ECPv6.2.1//NONSGML v1.0//EN
CALSCALE:GREGORIAN
METHOD:PUBLISH
X-ORIGINAL-URL:https://namura.cc
X-WR-CALDESC:クリエイティブセンター大阪（CCO） のイベント
REFRESH-INTERVAL;VALUE=DURATION:PT1H
X-Robots-Tag:noindex
X-PUBLISHED-TTL:PT1H
BEGIN:VTIMEZONE
TZID:Asia/Tokyo
BEGIN:STANDARD
TZOFFSETFROM:+0900
TZOFFSETTO:+0900
TZNAME:JST
DTSTART:20090101T000000
END:STANDARD
END:VTIMEZONE
BEGIN:VEVENT
DTSTART;VALUE=DATE:20090717
DTEND;VALUE=DATE:20090718
DTSTAMP:20260425T113945
CREATED:20230215T092811Z
LAST-MODIFIED:20230215T092821Z
UID:1180-1247788800-1247875199@namura.cc
SUMMARY:NEUTRAL NATION 2009
DESCRIPTION:2009/7/17(金)　NEUTRAL NATION 2009 West Field \n新しい音楽イベントの形が生まれる！\nニュートラルでボーダレスな音楽的創造の確立\nその先にある至高の音楽祭！！ \nNEUTRAL NATION 2009開催決定！！ 国内外を問わず秀逸なパフォーマンスを魅せる実力派アーティストやDJによって構成、\nシーンの流行や流れに左右されず、常に中立（ニュートラル）な立ち位置であり続け\nクオリティーの高い音楽性を持つアーティストのみをセレクトしたイベント、それが\nNEUTRAL NATION -ニュートラルネイション-である。 \nニュートラルでボーダレスな音楽的創造の確立を目指すこのイベントは、東京と大阪の\n両都市で開催され、記念すべき第一回目への出演が決定したのは、\nポスト・ロック/エレクトロニカ/ジャズ/ワールド・ミュージックなど、あらゆる音楽要素を取り込み、\nここ日本でもフジロックを始め幾度と来日公演を行っているNYのマイス・パレード(米)を筆頭に、\n日本からエゴ・ラッピン&ザ・ゴシップ・オブ・ジャックス、日本を代表する３ピースクラムボン、\n各フェスで人気のLITTLE TEMPO、実力派バンドとして名高いSLY MONGOOSE、\n話題のサカナクション、新世代ポスト・ロックの呼び声が高いSOUR、mouse on the keysなど\n強力なラインナップなどが第１弾に発表、\n更に強力なライブアクトと多くのＤＪがこれからも追加発表される。 \n又、このイベントは、内容を変え大阪でも開催されるが、\nそちらの出演アクトにも注目である！！ \nどこまでもクールでニュートラルなイベントとして産声を上げた「NEUTRAL NATION 2009」\nこれまでの国内インドアフェスとは趣向を変えた演出とライブクリエイトにも注目の\n音楽ファンには必見のインドアライブイベントが産声を上げた。\n来年以降も規模を拡大しながら開催していく。 \n7/12(日)　NEUTRAL NATION 2009 East Field-　東京：新木場STUDIO COAST\n7/17(金)　NEUTRAL NATION 2009 West Field-　大阪：BLACK CHAMBER \nオフィシャルページ：http://www.neutralnation.net \nこの夏、至高の屋内リゾート音楽祭！\nNEUTRAL NATION 2009\n09年4月24日にウェブ告知解禁！！\n一般発表！ \n■GW期間中に渋谷街頭テレビで開催発表！CMヘビーローテーション。\n■同月FLOORフリーペーパーの表紙広告掲載発表。\n■同月スペースシャワーTVにて大量CMオンエア解禁！\n■同月タワーレコード店頭特設ブース＆イベントキャンペーン開始！\n他、媒体関係にて告知情報！！ \n一般チケット発売 ： 09年05月23日より発売開始！！\n=========================================================================\ntotal info\nお問い合わせ：arights Entertainment Inc\nエーライツ03-5725-3805\nhttp://www.neutralnation.net \n主催：arights Entertainment inc./ 企画製作オーガナイズ 金子タカ\n企画/制作：arights Entertainment inc./deuce inc./grow republic inc.\n運営：SMASH（東京）/SOUND CREATOR（大阪）\n後援：SPACE SHOWER TV / MySpace/TOWER RECORD / FM 802\n特別協賛：イープラス
URL:https://namura.cc/event/20090717/
ATTACH;FMTTYPE=:
END:VEVENT
BEGIN:VEVENT
DTSTART;VALUE=DATE:20090719
DTEND;VALUE=DATE:20090720
DTSTAMP:20260425T113945
CREATED:20230215T092637Z
LAST-MODIFIED:20230215T092647Z
UID:1178-1247961600-1248047999@namura.cc
SUMMARY:THE STAR FESTIVAL 2009 SUMMER SPECIAL
DESCRIPTION:2009/7/19(SUN/祝日前）\nopen 21:00 ADV:3000 DOOR:3500＊別途ワンドリンク代金500円必要 \n公式サイト：http://www.blackbeatzbox.com/starfestival/ \nチケットぴあ　０５７０?０２?９９９９（Ｐコード　３２８?１１４）\nローソンチケット　０５７０?０８４?００５（Ｌコード ５９４９２）\nTOWA TEI\nSHY FX(DIGITAL SOUNDBOY) from US\nDJ TOYO(BLACK BEATZ BOX)\nNARI(FUTURE LION)\nDJ MASASHI(NEW GENERATION)\nDJ YUTAKA(GRIND KRU)\nDJ MASSIVE(NIGHT LIFE)\nKOUICHI SATO(CROSS COUNTER)\nHEAD BANGERZ \nLIVE:MIC JACK PRODUCTION(B.I.GJOE / INI / LARGE IRON / J.F.K as JAY-K / DJ KEN / HALT.)\nBREAKAGE(DIGITAL SOUNDBOY)from US\nDJ KEN(MIC JACK PRODUCTION)\nWESSUN(土俵ORIZIN)\nDAMAGE\nKO-JI ZERO THREE\nMC AOI\nVISUALOGIC \nTONE’S FLOOR-music by CALM-\nDJ:CALM（Music Conception）-open to last-\nFOOD：世界食道 \n★7/19 (日) 祝日前！大阪住之江区　名村造船所跡地。野外のフェスティバル顔負けのBIG STAR FESTIVALが開催決定！！ジャングル／ドラム＆ベース?グライム、ダブステップを繋ぐUKストリート／アンダーグラウンド・サウンドの立役者、シャイ・FX！ シャイが主宰する超人気レーベル、Digital Soundboyが誇る革命的アーティスト、ブレイクエイジの初来日も必見！ シャイとの交遊関係も深く世界の音楽シーンを牽引するTOWA TEIも緊急参戦決定！そして今、日本で最 も ”WANTED” なM.C！B.I.G　JOE がMIC JACK PRODUCTIONフルメンバーでの日本初ライブが決定！特設野外ブースではCALM主催の今日本中で沸々と話題になっている 主体的なCalmの世界を体感できる希少な夜”TONE’S”などなど\n2009年夏、最強のHEADZ MUSIC祭がやってくる！！ \nTOWA TEI / テイ・トウワ (DJ/音楽プロデューサー)\n1990年、”ディー・ライト”のメンバーとして米エレクトラよりデビュー。94年、「Future Listening!」でソロデビュー。07年、音楽プロダクションhug　inc.設立。AYUSE KOZUE、TERIYAKI BOYZ(r)等の楽曲プロデュース、「大日本人」などの映画音楽、au iidaなどのCM楽曲を始めとするトップアーティストやヒット商品の音楽制作／ブランディングに携わっている。DJとしても、東\n京、京都でのレギュラーパーティー「MOTIVATION」他、様々なクラブイベント、企業イベント、ビッグ・フェスへの出演など活躍中。09年2月に発売された、４年振りの5th.オリジナルアルバム「BIG FUN」、また同時発売の制作日記を含む初の単行本「BOOK FUN」が絶賛発売中。\nwww.towatei.com\nwww.myspace.com/towatei\n★SHY FX (Digital Soundboy)\nロンドン、トッテナム出身のSHY　FXはUKレゲエ・シーンで育ち、16才から地元のサウンドシステムのダブプレートを作り始める。やがて彼の制作はラガからジャングル／ドラム＆ベースにシフトし、’93年、18才でSourから”GangstaKid”でデビュー。 翌’94年にはラガMC、UK APACHIをフィーチャーした”Original Nuttah”が爆発的大ヒットとなり、ジャングル・ブームの寵児となる。’95年の1st.アルバム『JUST AN EXAMPLE』を経て、自己のレーベル、Ebonyを設立、ブラック・ミュージックのエッセンスが生きる独自のドラム＆ベースを創造する。とりわけ’98年の”Bambaata”はトライバルな新機軸を打ち出し、\nシーンに多大な影響を与える。’01年、Sourでの盟友、T POWERとのコンビでメ\nジャーの Londonと契約、女性シンガー、DIをフィーチャーした”Shake Ur\nBody”の大ヒット(全英チャート7位)に続き、’02年にSHY FX & T POWER名義の\nアルバム『SET IT OFF』を発表、ELEPHANT MAN、MC SKIBADEEらを迎え、レゲ\nエ、R&B、ラテン、ガラージ等を取り混ぜる。’05年には新たにレーベル、\nDigital Soundboyを設立、SHY FX & T POWERの『DIARY OF A DIGITAL\nSOUNDBOY』を成功させ、以後BENNY PAGE、VISIONARY等の新鋭アーティストを育成。またDigital SoundboyはBREAKAGE、CASPAのリリース等、ダブステップも包括したUK屈指 のレーベルとなる。近年SHY FXはDIZZEE RASCALとの共演、AYUSE KOZUE、LILY ALLENらのリミックスを手掛ける他、DJとしてもドラム＆ベースのトップアクトの一人としてワールドワイドに活躍している。4年ぶりの来日！\nhttp://www.digitalsoundboy.com\nhttp://www.myspace.com/shyfx \n★BREAKAGE (Digital Soundboy)\nロック、レゲエ?クラシック等、幅広く音楽を聞き育ったBREAKAGEは12才の頃から従兄のコンピュータでトラック制作を始める。PRODIGYやヒップホップの影響を経てドラム＆ベースに移行、非公式にリ~ックスしたDOC SCOTTのクラシック “Here Come The Drum”が’01年にMetalheadzのパーティー等で話題となり、オリジナルを生んだ名門Reinforcedから正規リリースされる。そしてReinforcedから『Numbers EP』で同年にデビュー、以後Reinforcedの他にBassbin、Critical、Scientific Wax、Planet Mu等から数々のシングルをリリース、独創的で深遠な音響でシーンに確固たる地位を築く。’06年にはBassbinから1st.アルバム『THIS TOO SHALL PASS』を発表、独自のドラム＆ベース?ダウンテンポを披露する。’07年からSHY FXとの交流が密となり、彼が主宰するDigital Soundboyからリリースを開始、第1弾の”Clarendon”はハー\nフタイム・ビーツの革新作となり、ダブステップ・シーンから支持される。その後も”Callahan”、”Dharma”、”Together”等、ダブステップにフォーカスした作品で脚光を浴び続ける。Digital Soundboyからの新作アルバム『FOUNDATION』が待た\nれる中、注目の初来日！\nhttp://www.myspace.com/breakagedsb\nMIC JACK PRODUCTION\n1999年札幌、それぞれ別々に活動していた9人、B.I.G JOE / SHUREN the FIRE/ INI / LARGE IRON / JFKのMC5人とDJ DOGG / KEN / HALT. / AZ FUNKのDJ4人で結成。その後、数々の破壊活動を共にし2002年に1stアルバム “SPIRITUALBULLET” を自身のレーベルILL DANCE MUSICよりリリース。インディーズ精神にのっとり、ライヴと口コミのみで今まで数々の作品をリリースしてきた。2006年、当時B.I.G JOEは服役中ながらもオーストラリア経由で2ndアルバム”UNIVERSAL TRUTH”を発表し、約2年に渡り全国98公演に及ぶツアー「ROAD TO 2009」?「ALL FOR 2009」を敢行。そして、今年2009年MIC　JACK PRODUCTIONが結成10 年目を迎えるこの年に、B.I.G JOEも帰還し、彼等\nのNEXT STAGEが始まろうとしている。\nhttp://www.micjack.com\nhttp://www.myspace.com/micjackproduction \n自由奔放 ill HIP HOP集団MIC JACK PRODUCTIONに結成時からDJ・プロデューサーとして参加。独自のノリで『illで踊れる音楽』を探し求め、世界中を掘り続けるナイスDJ。心象宇宙に魂の核融合炉を持ち、様々な音の原子を分解し\n核融合爆発による再構築を得意とするBEATS BREAKER。昨今は、LIBRA RECORD.への楽曲提供、デンマークのバンドBLUE FOUNDATIONのREMIX、KEMURIPRODUCTIONSのMIXシリーズ「TIGHT19」、PPP SOUNDSから「JAZZZ TIME vol.\n1」、SOUND EXPERIENCE RECORDINGSからのリリース、BLACK SMOKER RECORDSか\nらのリリースとソロでも様々な場所で活動している。\nwww.micjack.com\nwww.myspace.com/micjackproduction \nDAMAGE\nTHIS YEAR’S BRAND NEW HYPE!!!! 狂気と電気と毒気に犯されたベースシンセが軸となるR指定エッジーエレクトロサウンドに魅惑と疑惑にあふれたスキャンダラスかつセンセーショナルなダブルヴォーカル擁する噂の6ピースバン\nド。これまでにTHE LOCUST\, SOMEGIRLSなどのUS変態アバンギャルド系から、GOLDIE\, FIVE DEEZ\, DRE-SKULL\, CEEPHAX ACID CREWなどの海外ダンスアクトに、REBEL FAMILIA\, METALCHICKS\, DJ BAKU\, THA BLUE HARBといった国内最前線アーティスト達ともジャンルレスに共演。2008年にはテキサス州オースチンで行われたSXSW 2008に出演し大喝采を浴びたのち、ファッションブランドNUMBER(N)INEによるライブツアー「listen to the silence」に参加。秋\nにはTHE FAINT ジャパンツアーでフロントアクトを務めるなど大きな話題を呼ぶ。そして2009年4月遂に待望のニューアルバム「COMING SOON」を投下！！！それに伴い、かのマークスチュワート御大の ラブコールにより実現したREMIX等も続々リリース予定！！！
URL:https://namura.cc/event/20090719/
ATTACH;FMTTYPE=image/jpeg:https://namura.cc/wp-content/uploads/2023/02/20090709-719_f.jpg
END:VEVENT
END:VCALENDAR